Workbook

Sheet Result Analysis
A1: CO-PO Attainment Sheet As calculated by Departments
A2: Nahata Jogendranath Mondal Smriti Mahavidyalaya
A3: Department : | B3: HIGA
F4: SEMESTER 1 | N4: SEMESTER 2 | V4: SEMESTER 3 | AH4: SEMESTER 4 | AT4: SEMESTER 5 | BJ4: SEMESTER 6 | BY4: INTERNAL | CB4: EXTERNAL
E5: CC1 | I5: CC2 | M5: CC3 | Q5: CC4 | U5: CC5 | Y5: CC6 | AC5: CC7 | AG5: CC8 | AK5: CC9 | AO5: CC10 | AS5: CC11 | AW5: CC12 | BA5: DSE 1 | BE5: DSE 2 | BI5: CC13 | BL5: CC14 | BQ5: DSE 3 | BU5: DSE 4
A6: Sl. No. | B6: Registration No. | C6: Name | D6: Internal | E6: External | F6: Course Total | G6: Percentage | H6: Internal | I6: External | J6: Course Total | K6: Percentage | L6: Internal | M6: External | N6: Course Total | O6: Percentage | P6: Internal | Q6: External | R6: Course Total | S6: Percentage | T6: Internal | U6: External | V6: Course Total | W6: Percentage | X6: Internal | Y6: External | Z6: Course Total | AA6: Percentage | AB6: Internal | AC6: External | AD6: Course Total | AE6: Percentage | AF6: Internal | AG6: External | AH6: Course Total | AI6: Percentage | AJ6: Internal | AK6: External | AL6: Course Total | AM6: Percentage | AN6: Internal | AO6: External | AP6: Course Total | AQ6: Percentage | AR6: Internal | AS6: External | AT6: Course Total | AU6: Percentage | AV6: Internal | AW6: External | AX6: Course Total | AY6: Percentage | AZ6: Internal | BA6: External | BB6: Course Total | BC6: Percentage | BD6: Internal | BE6: External | BF6: Course Total | BG6: Percentage | BH6: Internal | BI6: External | BJ6: Course Total | BK6: Percentage | BL6: Internal | BM6: External | BN6: Course Total | BO6: Percentage | BP6: Internal | BQ6: External | BR6: Course Total | BS6: Percentage | BT6: Internal | BU6: External | BV6: Course Total | BW6: Percentage | BX6: TOTAL | BY6: AVERAGE | BZ6: AVERAGE PERCENTAGE | CA6: TOTAL | CB6: AVERAGE | CC6: AVERAGE PERCENTAGE
A7: 1 | B7: 1272112400525 | C7: SAIFOL MONDAL | D7: 17 | E7: 33 | F7: =D7+E7 -> 50 | G7: =F7/75*100 -> 66.666667 | H7: 20 | I7: 38 | J7: =H7+I7 -> 58 | K7: =J7/75*100 -> 77.333333 | L7: 19 | M7: 25 | N7: =L7+M7 -> 44 | O7: =N7/75*100 -> 58.666667 | P7: 21 | Q7: 36 | R7: =P7+Q7 -> 57 | S7: =R7/75*100 -> 76 | T7: 19 | U7: 23 | V7: =T7+U7 -> 42 | W7: =V7/75*100 -> 56 | X7: 20 | Y7: 24 | Z7: =X7+Y7 -> 44 | AA7: =Z7/75*100 -> 58.666667 | AB7: 20 | AC7: 16 | AD7: =AB7+AC7 -> 36 | AE7: =AD7/75*100 -> 48 | AF7: 20 | AG7: 13 | AH7: =AF7+AG7 -> 33 | AI7: =AH7/75*100 -> 44 | AJ7: 20 | AK7: 21 | AL7: =AJ7+AK7 -> 41 | AM7: =AL7/75*100 -> 54.666667 | AN7: 21 | AO7: 21 | AP7: =AN7+AO7 -> 42 | AQ7: =AP7/75*100 -> 56 | AR7: 21 | AS7: 15 | AT7: =AR7+AS7 -> 36 | AU7: =AT7/75*100 -> 48 | AV7: 23 | AW7: 15 | AX7: =AV7+AW7 -> 38 | AY7: =AX7/75*100 -> 50.666667 | AZ7: 21 | BA7: 22 | BB7: =AZ7+BA7 -> 43 | BC7: =BB7/75*100 -> 57.333333 | BD7: 21 | BE7: 17 | BF7: =BD7+BE7 -> 38 | BG7: =BF7/75*100 -> 50.666667 | BH7: 22 | BI7: 25 | BJ7: =BH7+BI7 -> 47 | BK7: =BJ7/75*100 -> 62.666667 | BL7: 22 | BM7: 28 | BN7: =BL7+BM7 -> 50 | BO7: =BN7/75*100 -> 66.666667 | BP7: 21 | BQ7: 27 | BR7: =BP7+BQ7 -> 48 | BS7: =BR7/75*100 -> 64 | BT7: 23 | BU7: 21 | BV7: =BT7+BU7 -> 44 | BW7: =BV7/75*100 -> 58.666667 | BX7: =D7+H7+L7+P7+T7+X7+AB7+AF7+AJ7+AN7+AR7+AV7+AZ7+BD7+BH7+BL7+BP7+BT7 -> 371 | BY7: =BX7/18 -> 20.611111 | BZ7: =BY7/25*100 -> 82.444444 | CA7: =E7+I7+M7+Q7+U7+Y7+AC7+AG7+AK7+AO7+AS7+AW7+BA7+BE7+BI7+BM7+BQ7+BU7 -> 420 | CB7: =CA7/18 -> 23.333333 | CC7: =CB7/50*100 -> 46.666667
A8: 2 | B8: 2172121100527 | C8: PRIYANKA SARKAR | D8: 20 | E8: 37 | F8: =D8+E8 -> 57 | G8: =F8/75*100 -> 76 | H8: 19 | I8: 40 | J8: =H8+I8 -> 59 | K8: =J8/75*100 -> 78.666667 | L8: 20 | M8: 33 | N8: =L8+M8 -> 53 | O8: =N8/75*100 -> 70.666667 | P8: 20 | Q8: 35 | R8: =P8+Q8 -> 55 | S8: =R8/75*100 -> 73.333333 | T8: 23 | U8: 26 | V8: =T8+U8 -> 49 | W8: =V8/75*100 -> 65.333333 | X8: 22 | Y8: 28 | Z8: =X8+Y8 -> 50 | AA8: =Z8/75*100 -> 66.666667 | AB8: 23 | AC8: 36 | AD8: =AB8+AC8 -> 59 | AE8: =AD8/75*100 -> 78.666667 | AF8: 23 | AG8: 26 | AH8: =AF8+AG8 -> 49 | AI8: =AH8/75*100 -> 65.333333 | AJ8: 23 | AK8: 30 | AL8: =AJ8+AK8 -> 53 | AM8: =AL8/75*100 -> 70.666667 | AN8: 24 | AO8: 31 | AP8: =AN8+AO8 -> 55 | AQ8: =AP8/75*100 -> 73.333333 | AR8: 23 | AS8: 27 | AT8: =AR8+AS8 -> 50 | AU8: =AT8/75*100 -> 66.666667 | AV8: 23 | AW8: 25 | AX8: =AV8+AW8 -> 48 | AY8: =AX8/75*100 -> 64 | AZ8: 23 | BA8: 32 | BB8: =AZ8+BA8 -> 55 | BC8: =BB8/75*100 -> 73.333333 | BD8: 23 | BE8: 27 | BF8: =BD8+BE8 -> 50 | BG8: =BF8/75*100 -> 66.666667 | BH8: 23 | BI8: 36 | BJ8: =BH8+BI8 -> 59 | BK8: =BJ8/75*100 -> 78.666667 | BL8: 23 | BM8: 35 | BN8: =BL8+BM8 -> 58 | BO8: =BN8/75*100 -> 77.333333 | BP8: 23 | BQ8: 28 | BR8: =BP8+BQ8 -> 51 | BS8: =BR8/75*100 -> 68 | BT8: 23 | BU8: 34 | BV8: =BT8+BU8 -> 57 | BW8: =BV8/75*100 -> 76 | BX8: =D8+H8+L8+P8+T8+X8+AB8+AF8+AJ8+AN8+AR8+AV8+AZ8+BD8+BH8+BL8+BP8+BT8 -> 401 | BY8: =BX8/18 -> 22.277778 | BZ8: =BY8/25*100 -> 89.111111 | CA8: =E8+I8+M8+Q8+U8+Y8+AC8+AG8+AK8+AO8+AS8+AW8+BA8+BE8+BI8+BM8+BQ8+BU8 -> 566 | CB8: =CA8/18 -> 31.444444 | CC8: =CB8/50*100 -> 62.888889
A9: 3 | B9: 2172121100529 | C9: PRITI SARKAR | D9: 21 | E9: 37 | F9: =D9+E9 -> 58 | G9: =F9/75*100 -> 77.333333 | H9: 17 | I9: 40 | J9: =H9+I9 -> 57 | K9: =J9/75*100 -> 76 | L9: 21 | M9: 37 | N9: =L9+M9 -> 58 | O9: =N9/75*100 -> 77.333333 | P9: 23 | Q9: 38 | R9: =P9+Q9 -> 61 | S9: =R9/75*100 -> 81.333333 | T9: 23 | U9: 28 | V9: =T9+U9 -> 51 | W9: =V9/75*100 -> 68 | X9: 22 | Y9: 27 | Z9: =X9+Y9 -> 49 | AA9: =Z9/75*100 -> 65.333333 | AB9: 23 | AC9: 30 | AD9: =AB9+AC9 -> 53 | AE9: =AD9/75*100 -> 70.666667 | AF9: 24 | AG9: 26 | AH9: =AF9+AG9 -> 50 | AI9: =AH9/75*100 -> 66.666667 | AJ9: 24 | AK9: 31 | AL9: =AJ9+AK9 -> 55 | AM9: =AL9/75*100 -> 73.333333 | AN9: 23 | AO9: 29 | AP9: =AN9+AO9 -> 52 | AQ9: =AP9/75*100 -> 69.333333 | AR9: 24 | AS9: 31 | AT9: =AR9+AS9 -> 55 | AU9: =AT9/75*100 -> 73.333333 | AV9: 24 | AW9: 28 | AX9: =AV9+AW9 -> 52 | AY9: =AX9/75*100 -> 69.333333 | AZ9: 23 | BA9: 34 | BB9: =AZ9+BA9 -> 57 | BC9: =BB9/75*100 -> 76 | BD9: 23 | BE9: 30 | BF9: =BD9+BE9 -> 53 | BG9: =BF9/75*100 -> 70.666667 | BH9: 24 | BI9: 33 | BJ9: =BH9+BI9 -> 57 | BK9: =BJ9/75*100 -> 76 | BL9: 24 | BM9: 37 | BN9: =BL9+BM9 -> 61 | BO9: =BN9/75*100 -> 81.333333 | BP9: 24 | BQ9: 28 | BR9: =BP9+BQ9 -> 52 | BS9: =BR9/75*100 -> 69.333333 | BT9: 24 | BU9: 38 | BV9: =BT9+BU9 -> 62 | BW9: =BV9/75*100 -> 82.666667 | BX9: =D9+H9+L9+P9+T9+X9+AB9+AF9+AJ9+AN9+AR9+AV9+AZ9+BD9+BH9+BL9+BP9+BT9 -> 411 | BY9: =BX9/18 -> 22.833333 | BZ9: =BY9/25*100 -> 91.333333 | CA9: =E9+I9+M9+Q9+U9+Y9+AC9+AG9+AK9+AO9+AS9+AW9+BA9+BE9+BI9+BM9+BQ9+BU9 -> 582 | CB9: =CA9/18 -> 32.333333 | CC9: =CB9/50*100 -> 64.666667
A10: 4 | B10: 2172122400530 | C10: SERMONA KHETUN | D10: 20 | E10: 36 | F10: =D10+E10 -> 56 | G10: =F10/75*100 -> 74.666667 | H10: 20 | I10: 40 | J10: =H10+I10 -> 60 | K10: =J10/75*100 -> 80 | L10: 21 | M10: 38 | N10: =L10+M10 -> 59 | O10: =N10/75*100 -> 78.666667 | P10: 23 | Q10: 39 | R10: =P10+Q10 -> 62 | S10: =R10/75*100 -> 82.666667 | T10: 24 | U10: 30 | V10: =T10+U10 -> 54 | W10: =V10/75*100 -> 72 | X10: 22 | Y10: 25 | Z10: =X10+Y10 -> 47 | AA10: =Z10/75*100 -> 62.666667 | AB10: 24 | AC10: 37 | AD10: =AB10+AC10 -> 61 | AE10: =AD10/75*100 -> 81.333333 | AF10: 24 | AG10: 33 | AH10: =AF10+AG10 -> 57 | AI10: =AH10/75*100 -> 76 | AJ10: 24 | AK10: 38 | AL10: =AJ10+AK10 -> 62 | AM10: =AL10/75*100 -> 82.666667 | AN10: 24 | AO10: 33 | AP10: =AN10+AO10 -> 57 | AQ10: =AP10/75*100 -> 76 | AR10: 24 | AS10: 29 | AT10: =AR10+AS10 -> 53 | AU10: =AT10/75*100 -> 70.666667 | AV10: 24 | AW10: 28 | AX10: =AV10+AW10 -> 52 | AY10: =AX10/75*100 -> 69.333333 | AZ10: 24 | BA10: 31 | BB10: =AZ10+BA10 -> 55 | BC10: =BB10/75*100 -> 73.333333 | BD10: 24 | BE10: 32 | BF10: =BD10+BE10 -> 56 | BG10: =BF10/75*100 -> 74.666667 | BH10: 24 | BI10: 30 | BJ10: =BH10+BI10 -> 54 | BK10: =BJ10/75*100 -> 72 | BL10: 24 | BM10: 35 | BN10: =BL10+BM10 -> 59 | BO10: =BN10/75*100 -> 78.666667 | BP10: 24 | BQ10: 30 | BR10: =BP10+BQ10 -> 54 | BS10: =BR10/75*100 -> 72 | BT10: 24 | BU10: 35 | BV10: =BT10+BU10 -> 59 | BW10: =BV10/75*100 -> 78.666667 | BX10: =D10+H10+L10+P10+T10+X10+AB10+AF10+AJ10+AN10+AR10+AV10+AZ10+BD10+BH10+BL10+BP10+BT10 -> 418 | BY10: =BX10/18 -> 23.222222 | BZ10: =BY10/25*100 -> 92.888889 | CA10: =E10+I10+M10+Q10+U10+Y10+AC10+AG10+AK10+AO10+AS10+AW10+BA10+BE10+BI10+BM10+BQ10+BU10 -> 599 | CB10: =CA10/18 -> 33.277778 | CC10: =CB10/50*100 -> 66.555556
A11: 5 | B11: 2172122500531 | C11: HASNAYARA KHATUN | D11: 23 | E11: 37 | F11: =D11+E11 -> 60 | G11: =F11/75*100 -> 80 | H11: 22 | I11: 40 | J11: =H11+I11 -> 62 | K11: =J11/75*100 -> 82.666667 | L11: 21 | M11: 39 | N11: =L11+M11 -> 60 | O11: =N11/75*100 -> 80 | P11: 23 | Q11: 39 | R11: =P11+Q11 -> 62 | S11: =R11/75*100 -> 82.666667 | T11: 24 | U11: 27 | V11: =T11+U11 -> 51 | W11: =V11/75*100 -> 68 | X11: 22 | Y11: 25 | Z11: =X11+Y11 -> 47 | AA11: =Z11/75*100 -> 62.666667 | AB11: 24 | AC11: 36 | AD11: =AB11+AC11 -> 60 | AE11: =AD11/75*100 -> 80 | AF11: 24 | AG11: 28 | AH11: =AF11+AG11 -> 52 | AI11: =AH11/75*100 -> 69.333333 | AJ11: 24 | AK11: 32 | AL11: =AJ11+AK11 -> 56 | AM11: =AL11/75*100 -> 74.666667 | AN11: 24 | AO11: 32 | AP11: =AN11+AO11 -> 56 | AQ11: =AP11/75*100 -> 74.666667 | AR11: 24 | AS11: 27 | AT11: =AR11+AS11 -> 51 | AU11: =AT11/75*100 -> 68 | AV11: 24 | AW11: 22 | AX11: =AV11+AW11 -> 46 | AY11: =AX11/75*100 -> 61.333333 | AZ11: 24 | BA11: 31 | BB11: =AZ11+BA11 -> 55 | BC11: =BB11/75*100 -> 73.333333 | BD11: 24 | BE11: 25 | BF11: =BD11+BE11 -> 49 | BG11: =BF11/75*100 -> 65.333333 | BH11: 24 | BI11: 30 | BJ11: =BH11+BI11 -> 54 | BK11: =BJ11/75*100 -> 72 | BL11: 24 | BM11: 27 | BN11: =BL11+BM11 -> 51 | BO11: =BN11/75*100 -> 68 | BP11: 24 | BQ11: 39 | BR11: =BP11+BQ11 -> 63 | BS11: =BR11/75*100 -> 84 | BT11: 24 | BU11: 30 | BV11: =BT11+BU11 -> 54 | BW11: =BV11/75*100 -> 72 | BX11: =D11+H11+L11+P11+T11+X11+AB11+AF11+AJ11+AN11+AR11+AV11+AZ11+BD11+BH11+BL11+BP11+BT11 -> 423 | BY11: =BX11/18 -> 23.5 | BZ11: =BY11/25*100 -> 94 | CA11: =E11+I11+M11+Q11+U11+Y11+AC11+AG11+AK11+AO11+AS11+AW11+BA11+BE11+BI11+BM11+BQ11+BU11 -> 566 | CB11: =CA11/18 -> 31.444444 | CC11: =CB11/50*100 -> 62.888889
A12: 6 | B12: 2172121100532 | C12: SUSMITA ROY | D12: 20 | E12: 36 | F12: =D12+E12 -> 56 | G12: =F12/75*100 -> 74.666667 | H12: 22 | I12: 35 | J12: =H12+I12 -> 57 | K12: =J12/75*100 -> 76 | L12: 20 | M12: 36 | N12: =L12+M12 -> 56 | O12: =N12/75*100 -> 74.666667 | P12: 22 | Q12: 36 | R12: =P12+Q12 -> 58 | S12: =R12/75*100 -> 77.333333 | T12: 23 | U12: 30 | V12: =T12+U12 -> 53 | W12: =V12/75*100 -> 70.666667 | X12: 22 | Y12: 28 | Z12: =X12+Y12 -> 50 | AA12: =Z12/75*100 -> 66.666667 | AB12: 23 | AC12: 35 | AD12: =AB12+AC12 -> 58 | AE12: =AD12/75*100 -> 77.333333 | AF12: 23 | AG12: 30 | AH12: =AF12+AG12 -> 53 | AI12: =AH12/75*100 -> 70.666667 | AJ12: 23 | AK12: 35 | AL12: =AJ12+AK12 -> 58 | AM12: =AL12/75*100 -> 77.333333 | AN12: 23 | AO12: 29 | AP12: =AN12+AO12 -> 52 | AQ12: =AP12/75*100 -> 69.333333 | AR12: 24 | AS12: 30 | AT12: =AR12+AS12 -> 54 | AU12: =AT12/75*100 -> 72 | AV12: 23 | AW12: 24 | AX12: =AV12+AW12 -> 47 | AY12: =AX12/75*100 -> 62.666667 | AZ12: 22 | BA12: 37 | BB12: =AZ12+BA12 -> 59 | BC12: =BB12/75*100 -> 78.666667 | BD12: 22 | BE12: 31 | BF12: =BD12+BE12 -> 53 | BG12: =BF12/75*100 -> 70.666667 | BH12: 24 | BI12: 32 | BJ12: =BH12+BI12 -> 56 | BK12: =BJ12/75*100 -> 74.666667 | BL12: 24 | BM12: 35 | BN12: =BL12+BM12 -> 59 | BO12: =BN12/75*100 -> 78.666667 | BP12: 23 | BQ12: 28 | BR12: =BP12+BQ12 -> 51 | BS12: =BR12/75*100 -> 68 | BT12: 24 | BU12: 32 | BV12: =BT12+BU12 -> 56 | BW12: =BV12/75*100 -> 74.666667 | BX12: =D12+H12+L12+P12+T12+X12+AB12+AF12+AJ12+AN12+AR12+AV12+AZ12+BD12+BH12+BL12+BP12+BT12 -> 407 | BY12: =BX12/18 -> 22.611111 | BZ12: =BY12/25*100 -> 90.444444 | CA12: =E12+I12+M12+Q12+U12+Y12+AC12+AG12+AK12+AO12+AS12+AW12+BA12+BE12+BI12+BM12+BQ12+BU12 -> 579 | CB12: =CA12/18 -> 32.166667 | CC12: =CB12/50*100 -> 64.333333
A13: 7 | B13: 2172121400534 | C13: SHUBHCCHCCA CHAKRABORTY | D13: 22 | E13: 37 | F13: =D13+E13 -> 59 | G13: =F13/75*100 -> 78.666667 | H13: 23 | I13: 40 | J13: =H13+I13 -> 63 | K13: =J13/75*100 -> 84 | L13: 20 | M13: 29 | N13: =L13+M13 -> 49 | O13: =N13/75*100 -> 65.333333 | P13: 22 | Q13: 37 | R13: =P13+Q13 -> 59 | S13: =R13/75*100 -> 78.666667 | T13: 23 | U13: 28 | V13: =T13+U13 -> 51 | W13: =V13/75*100 -> 68 | X13: 22 | Y13: 33 | Z13: =X13+Y13 -> 55 | AA13: =Z13/75*100 -> 73.333333 | AB13: 23 | AC13: 33 | AD13: =AB13+AC13 -> 56 | AE13: =AD13/75*100 -> 74.666667 | AF13: 23 | AG13: 22 | AH13: =AF13+AG13 -> 45 | AI13: =AH13/75*100 -> 60 | AJ13: 23 | AK13: 34 | AL13: =AJ13+AK13 -> 57 | AM13: =AL13/75*100 -> 76 | AN13: 23 | AO13: 26 | AP13: =AN13+AO13 -> 49 | AQ13: =AP13/75*100 -> 65.333333 | AR13: 23 | AS13: 37 | AT13: =AR13+AS13 -> 60 | AU13: =AT13/75*100 -> 80 | AV13: 23 | AW13: 30 | AX13: =AV13+AW13 -> 53 | AY13: =AX13/75*100 -> 70.666667 | AZ13: 23 | BA13: 23 | BB13: =AZ13+BA13 -> 46 | BC13: =BB13/75*100 -> 61.333333 | BD13: 23 | BE13: 27 | BF13: =BD13+BE13 -> 50 | BG13: =BF13/75*100 -> 66.666667 | BH13: 24 | BI13: 30 | BJ13: =BH13+BI13 -> 54 | BK13: =BJ13/75*100 -> 72 | BL13: 24 | BM13: 21 | BN13: =BL13+BM13 -> 45 | BO13: =BN13/75*100 -> 60 | BP13: 23 | BQ13: 27 | BR13: =BP13+BQ13 -> 50 | BS13: =BR13/75*100 -> 66.666667 | BT13: 23 | BU13: 29 | BV13: =BT13+BU13 -> 52 | BW13: =BV13/75*100 -> 69.333333 | BX13: =D13+H13+L13+P13+T13+X13+AB13+AF13+AJ13+AN13+AR13+AV13+AZ13+BD13+BH13+BL13+BP13+BT13 -> 410 | BY13: =BX13/18 -> 22.777778 | BZ13: =BY13/25*100 -> 91.111111 | CA13: =E13+I13+M13+Q13+U13+Y13+AC13+AG13+AK13+AO13+AS13+AW13+BA13+BE13+BI13+BM13+BQ13+BU13 -> 543 | CB13: =CA13/18 -> 30.166667 | CC13: =CB13/50*100 -> 60.333333
A14: 8 | B14: 2172111100537 | C14: SAHEB HALDER | D14: 17 | E14: 36 | F14: =D14+E14 -> 53 | G14: =F14/75*100 -> 70.666667 | H14: 19 | I14: 40 | J14: =H14+I14 -> 59 | K14: =J14/75*100 -> 78.666667 | L14: 19 | M14: 35 | N14: =L14+M14 -> 54 | O14: =N14/75*100 -> 72 | P14: 22 | Q14: 38 | R14: =P14+Q14 -> 60 | S14: =R14/75*100 -> 80 | T14: 22 | U14: 22 | V14: =T14+U14 -> 44 | W14: =V14/75*100 -> 58.666667 | X14: 17 | Y14: 24 | Z14: =X14+Y14 -> 41 | AA14: =Z14/75*100 -> 54.666667 | AB14: 21 | AC14: 10 | AD14: =AB14+AC14 -> 31 | AE14: =AD14/75*100 -> 41.333333 | AF14: 21 | AG14: 20 | AH14: =AF14+AG14 -> 41 | AI14: =AH14/75*100 -> 54.666667 | AJ14: 22 | AK14: 28 | AL14: =AJ14+AK14 -> 50 | AM14: =AL14/75*100 -> 66.666667 | AN14: 23 | AO14: 20 | AP14: =AN14+AO14 -> 43 | AQ14: =AP14/75*100 -> 57.333333 | AR14: 21 | AS14: 26 | AT14: =AR14+AS14 -> 47 | AU14: =AT14/75*100 -> 62.666667 | AV14: 23 | AW14: 27 | AX14: =AV14+AW14 -> 50 | AY14: =AX14/75*100 -> 66.666667 | AZ14: 20 | BA14: 27 | BB14: =AZ14+BA14 -> 47 | BC14: =BB14/75*100 -> 62.666667 | BD14: 20 | BE14: 18 | BF14: =BD14+BE14 -> 38 | BG14: =BF14/75*100 -> 50.666667 | BH14: 19 | BI14: 24 | BJ14: =BH14+BI14 -> 43 | BK14: =BJ14/75*100 -> 57.333333 | BL14: 20 | BM14: 24 | BN14: =BL14+BM14 -> 44 | BO14: =BN14/75*100 -> 58.666667 | BP14: 20 | BQ14: 23 | BR14: =BP14+BQ14 -> 43 | BS14: =BR14/75*100 -> 57.333333 | BT14: 21 | BU14: 17 | BV14: =BT14+BU14 -> 38 | BW14: =BV14/75*100 -> 50.666667 | BX14: =D14+H14+L14+P14+T14+X14+AB14+AF14+AJ14+AN14+AR14+AV14+AZ14+BD14+BH14+BL14+BP14+BT14 -> 367 | BY14: =BX14/18 -> 20.388889 | BZ14: =BY14/25*100 -> 81.555556 | CA14: =E14+I14+M14+Q14+U14+Y14+AC14+AG14+AK14+AO14+AS14+AW14+BA14+BE14+BI14+BM14+BQ14+BU14 -> 459 | CB14: =CA14/18 -> 25.5 | CC14: =CB14/50*100 -> 51
A15: 9 | B15: 2172121100537 | C15: SUTAPA MONDAL | D15: 20 | E15: 36 | F15: =D15+E15 -> 56 | G15: =F15/75*100 -> 74.666667 | H15: 21 | I15: 35 | J15: =H15+I15 -> 56 | K15: =J15/75*100 -> 74.666667 | L15: 20 | M15: 33 | N15: =L15+M15 -> 53 | O15: =N15/75*100 -> 70.666667 | P15: 22 | Q15: 35 | R15: =P15+Q15 -> 57 | S15: =R15/75*100 -> 76 | T15: 23 | U15: 22 | V15: =T15+U15 -> 45 | W15: =V15/75*100 -> 60 | X15: 22 | Y15: 24 | Z15: =X15+Y15 -> 46 | AA15: =Z15/75*100 -> 61.333333 | AB15: 23 | AC15: 27 | AD15: =AB15+AC15 -> 50 | AE15: =AD15/75*100 -> 66.666667 | AF15: 23 | AG15: 20 | AH15: =AF15+AG15 -> 43 | AI15: =AH15/75*100 -> 57.333333 | AJ15: 23 | AK15: 27 | AL15: =AJ15+AK15 -> 50 | AM15: =AL15/75*100 -> 66.666667 | AN15: 23 | AO15: 22 | AP15: =AN15+AO15 -> 45 | AQ15: =AP15/75*100 -> 60 | AR15: 23 | AS15: 30 | AT15: =AR15+AS15 -> 53 | AU15: =AT15/75*100 -> 70.666667 | AV15: 22 | AW15: 27 | AX15: =AV15+AW15 -> 49 | AY15: =AX15/75*100 -> 65.333333 | AZ15: 22 | BA15: 28 | BB15: =AZ15+BA15 -> 50 | BC15: =BB15/75*100 -> 66.666667 | BD15: 22 | BE15: 27 | BF15: =BD15+BE15 -> 49 | BG15: =BF15/75*100 -> 65.333333 | BH15: 23 | BI15: 30 | BJ15: =BH15+BI15 -> 53 | BK15: =BJ15/75*100 -> 70.666667 | BL15: 23 | BM15: 30 | BN15: =BL15+BM15 -> 53 | BO15: =BN15/75*100 -> 70.666667 | BP15: 23 | BQ15: 27 | BR15: =BP15+BQ15 -> 50 | BS15: =BR15/75*100 -> 66.666667 | BT15: 23 | BU15: 33 | BV15: =BT15+BU15 -> 56 | BW15: =BV15/75*100 -> 74.666667 | BX15: =D15+H15+L15+P15+T15+X15+AB15+AF15+AJ15+AN15+AR15+AV15+AZ15+BD15+BH15+BL15+BP15+BT15 -> 401 | BY15: =BX15/18 -> 22.277778 | BZ15: =BY15/25*100 -> 89.111111 | CA15: =E15+I15+M15+Q15+U15+Y15+AC15+AG15+AK15+AO15+AS15+AW15+BA15+BE15+BI15+BM15+BQ15+BU15 -> 513 | CB15: =CA15/18 -> 28.5 | CC15: =CB15/50*100 -> 57
A16: 10 | B16: 2172121400597 | C16: SONALI SARKAR | D16: 17 | E16: 23 | F16: =D16+E16 -> 40 | G16: =F16/75*100 -> 53.333333 | H16: 18 | I16: 35 | J16: =H16+I16 -> 53 | K16: =J16/75*100 -> 70.666667 | L16: 19 | M16: 28 | N16: =L16+M16 -> 47 | O16: =N16/75*100 -> 62.666667 | P16: 23 | Q16: 36 | R16: =P16+Q16 -> 59 | S16: =R16/75*100 -> 78.666667 | T16: 23 | U16: 21 | V16: =T16+U16 -> 44 | W16: =V16/75*100 -> 58.666667 | X16: 22 | Y16: 15 | Z16: =X16+Y16 -> 37 | AA16: =Z16/75*100 -> 49.333333 | AB16: 23 | AC16: 28 | AD16: =AB16+AC16 -> 51 | AE16: =AD16/75*100 -> 68 | AF16: 23 | AG16: 12 | AH16: =AF16+AG16 -> 35 | AI16: =AH16/75*100 -> 46.666667 | AJ16: 23 | AK16: 26 | AL16: =AJ16+AK16 -> 49 | AM16: =AL16/75*100 -> 65.333333 | AN16: 21 | AO16: 26 | AP16: =AN16+AO16 -> 47 | AQ16: =AP16/75*100 -> 62.666667 | AR16: 23 | AS16: 11 | AT16: =AR16+AS16 -> 34 | AU16: =AT16/75*100 -> 45.333333 | AV16: 22 | AW16: 13 | AX16: =AV16+AW16 -> 35 | AY16: =AX16/75*100 -> 46.666667 | AZ16: 23 | BA16: 20 | BB16: =AZ16+BA16 -> 43 | BC16: =BB16/75*100 -> 57.333333 | BD16: 23 | BE16: 11 | BF16: =BD16+BE16 -> 34 | BG16: =BF16/75*100 -> 45.333333 | BH16: 23 | BI16: 21 | BJ16: =BH16+BI16 -> 44 | BK16: =BJ16/75*100 -> 58.666667 | BL16: 23 | BM16: 19 | BN16: =BL16+BM16 -> 42 | BO16: =BN16/75*100 -> 56 | BP16: 23 | BQ16: 20 | BR16: =BP16+BQ16 -> 43 | BS16: =BR16/75*100 -> 57.333333 | BT16: 23 | BU16: 24 | BV16: =BT16+BU16 -> 47 | BW16: =BV16/75*100 -> 62.666667 | BX16: =D16+H16+L16+P16+T16+X16+AB16+AF16+AJ16+AN16+AR16+AV16+AZ16+BD16+BH16+BL16+BP16+BT16 -> 395 | BY16: =BX16/18 -> 21.944444 | BZ16: =BY16/25*100 -> 87.777778 | CA16: =E16+I16+M16+Q16+U16+Y16+AC16+AG16+AK16+AO16+AS16+AW16+BA16+BE16+BI16+BM16+BQ16+BU16 -> 389 | CB16: =CA16/18 -> 21.611111 | CC16: =CB16/50*100 -> 43.222222
C17: TOTAL | D17: =D7+D8+D9+D10+D11+D12+D13+D14+D15+D16 -> 197 | E17: =E7+E8+E9+E10+E11+E12+E13+E14+E15+E16 -> 348 | H17: =H7+H8+H9+H10+H11+H12+H13+H14+H15+H16 -> 201 | I17: =I7+I8+I9+I10+I11+I12+I13+I14+I15+I16 -> 383 | L17: =L7+L8+L9+L10+L11+L12+L13+L14+L15+L16 -> 200 | M17: =M7+M8+M9+M10+M11+M12+M13+M14+M15+M16 -> 333 | P17: =P7+P8+P9+P10+P11+P12+P13+P14+P15+P16 -> 221 | Q17: =Q7+Q8+Q9+Q10+Q11+Q12+Q13+Q14+Q15+Q16 -> 369 | T17: =T7+T8+T9+T10+T11+T12+T13+T14+T15+T16 -> 227 | U17: =U7+U8+U9+U10+U11+U12+U13+U14+U15+U16 -> 257 | X17: =X7+X8+X9+X10+X11+X12+X13+X14+X15+X16 -> 213 | Y17: =Y7+Y8+Y9+Y10+Y11+Y12+Y13+Y14+Y15+Y16 -> 253 | AB17: =AB7+AB8+AB9+AB10+AB11+AB12+AB13+AB14+AB15+AB16 -> 227 | AC17: =AC7+AC8+AC9+AC10+AC11+AC12+AC13+AC14+AC15+AC16 -> 288 | AF17: =AF7+AF8+AF9+AF10+AF11+AF12+AF13+AF14+AF15+AF16 -> 228 | AG17: =AG7+AG8+AG9+AG10+AG11+AG12+AG13+AG14+AG15+AG16 -> 230 | AJ17: =AJ7+AJ8+AJ9+AJ10+AJ11+AJ12+AJ13+AJ14+AJ15+AJ16 -> 229 | AK17: =AK7+AK8+AK9+AK10+AK11+AK12+AK13+AK14+AK15+AK16 -> 302 | AN17: =AN7+AN8+AN9+AN10+AN11+AN12+AN13+AN14+AN15+AN16 -> 229 | AO17: =AO7+AO8+AO9+AO10+AO11+AO12+AO13+AO14+AO15+AO16 -> 269 | AR17: =AR7+AR8+AR9+AR10+AR11+AR12+AR13+AR14+AR15+AR16 -> 230 | AS17: =AS7+AS8+AS9+AS10+AS11+AS12+AS13+AS14+AS15+AS16 -> 263 | AV17: =AV7+AV8+AV9+AV10+AV11+AV12+AV13+AV14+AV15+AV16 -> 231 | AW17: =AW7+AW8+AW9+AW10+AW11+AW12+AW13+AW14+AW15+AW16 -> 239 | AZ17: =AZ7+AZ8+AZ9+AZ10+AZ11+AZ12+AZ13+AZ14+AZ15+AZ16 -> 225 | BA17: =BA7+BA8+BA9+BA10+BA11+BA12+BA13+BA14+BA15+BA16 -> 285 | BD17: =BD7+BD8+BD9+BD10+BD11+BD12+BD13+BD14+BD15+BD16 -> 225 | BE17: =BE7+BE8+BE9+BE10+BE11+BE12+BE13+BE14+BE15+BE16 -> 245 | BH17: =BH7+BH8+BH9+BH10+BH11+BH12+BH13+BH14+BH15+BH16 -> 230 | BI17: =BI7+BI8+BI9+BI10+BI11+BI12+BI13+BI14+BI15+BI16 -> 291 | BL17: =BL7+BL8+BL9+BL10+BL11+BL12+BL13+BL14+BL15+BL16 -> 231 | BM17: =BM7+BM8+BM9+BM10+BM11+BM12+BM13+BM14+BM15+BM16 -> 291 | BP17: =BP7+BP8+BP9+BP10+BP11+BP12+BP13+BP14+BP15+BP16 -> 228 | BQ17: =BQ7+BQ8+BQ9+BQ10+BQ11+BQ12+BQ13+BQ14+BQ15+BQ16 -> 277 | BT17: =BT7+BT8+BT9+BT10+BT11+BT12+BT13+BT14+BT15+BT16 -> 232 | BU17: =BU7+BU8+BU9+BU10+BU11+BU12+BU13+BU14+BU15+BU16 -> 293
C18: AVERAGE | D18: =D17/10 -> 19.7 | E18: =E17/10 -> 34.8 | H18: =H17/22 -> 9.1363636 | I18: =I17/10 -> 38.3 | L18: =L17/10 -> 20 | M18: =M17/10 -> 33.3 | P18: =P17/10 -> 22.1 | Q18: =Q17/10 -> 36.9 | T18: =T17/10 -> 22.7 | U18: =U17/10 -> 25.7 | X18: =X17/10 -> 21.3 | Y18: =Y17/10 -> 25.3 | AB18: =AB17/10 -> 22.7 | AC18: =AC17/10 -> 28.8 | AF18: =AF17/10 -> 22.8 | AG18: =AG17/10 -> 23 | AJ18: =AJ17/10 -> 22.9 | AK18: =AK17/10 -> 30.2 | AN18: =AN17/10 -> 22.9 | AO18: =AO17/10 -> 26.9 | AR18: =AR17/10 -> 23 | AS18: =AS17/10 -> 26.3 | AV18: =AV17/10 -> 23.1 | AW18: =AW17/10 -> 23.9 | AZ18: =AZ17/10 -> 22.5 | BA18: =BA17/10 -> 28.5 | BD18: =BD17/10 -> 22.5 | BE18: =BE17/10 -> 24.5 | BH18: =BH17/10 -> 23 | BI18: =BI17/10 -> 29.1 | BL18: =BL17/10 -> 23.1 | BM18: =BM17/10 -> 29.1 | BP18: =BP17/10 -> 22.8 | BQ18: =BQ17/10 -> 27.7 | BT18: =BT17/10 -> 23.2 | BU18: =BU17/10 -> 29.3
C19: AVERAGE PERCENTAGE | D19: =D18/25*100 -> 78.8 | E19: =E18/50*100 -> 69.6 | H19: =H18/25*100 -> 36.545455 | I19: =I18/50*100 -> 76.6 | L19: =L18/25*100 -> 80 | M19: =M18/50*100 -> 66.6 | P19: =P18/25*100 -> 88.4 | Q19: =Q18/50*100 -> 73.8 | T19: =T18/25*100 -> 90.8 | U19: =U18/50*100 -> 51.4 | X19: =X18/25*100 -> 85.2 | Y19: =Y18/50*100 -> 50.6 | AB19: =AB18/25*100 -> 90.8 | AC19: =AC18/50*100 -> 57.6 | AF19: =AF18/25*100 -> 91.2 | AG19: =AG18/50*100 -> 46 | AJ19: =AJ18/25*100 -> 91.6 | AK19: =AK18/50*100 -> 60.4 | AN19: =AN18/25*100 -> 91.6 | AO19: =AO18/50*100 -> 53.8 | AR19: =AR18/25*100 -> 92 | AS19: =AS18/50*100 -> 52.6 | AV19: =AV18/25*100 -> 92.4 | AW19: =AW18/50*100 -> 47.8 | AZ19: =AZ18/25*100 -> 90 | BA19: =BA18/50*100 -> 57 | BD19: =BD18/25*100 -> 90 | BE19: =BE18/50*100 -> 49 | BH19: =BH18/25*100 -> 92 | BI19: =BI18/50*100 -> 58.2 | BL19: =BL18/25*100 -> 92.4 | BM19: =BM18/50*100 -> 58.2 | BP19: =BP18/25*100 -> 91.2 | BQ19: =BQ18/50*100 -> 55.4 | BT19: =BT18/25*100 -> 92.8 | BU19: =BU18/50*100 -> 58.6

Sheet CO Attainment
A1: COURSE OUTCOME ATTAINMENT
A2: Department :History
A4: Sl. No. | B4: COURSE CODE | C4: INTERNAL AVERAGE (%) (I) | D4: EXTERNAL AVARAGE (%) (E) | E4: DIRECT AVERAGE (%) (D) =( I+E)/2 | F4: STUDENTS | G4: % OF STUDENTS SECURE MARKS > | H4: DIRECT ATTAINMENT LEVEL (A) | I4: INDIRECT | J4: % OF STUDENTS SECURE MARKS > | K4: INDIRECT ATTAINMENT LEVEL (B) | L4: CO ATTAINMENT | M4: ATTAINMENT | N4: ATTAINMENT
G5: THRESHOLD MARKS I.E 50% | I5: AVERAGE (%) | J5: THRESHOLD MARKS I.E 50% | L5: (80% A +20% B) | M5: TARGET | N5: (Y/N)
A6: 1 | B6: HISACC1 | C6: ='Result Analysis'!D19 -> 78.8 | D6: ='Result Analysis'!E19 -> 69.6 | E6: =(C6+D6)/2 -> 74.2 | F6: 10 | G6: =10/10*100 -> 100 | H6: 3 | I6: ='CO FEEDBACK 1 to 18'!D32 -> 86 | J6: =10/10*100 -> 100 | K6: 3 | L6: =(H6*0.8+K6*0.2) -> 3 | M6: 3 | N6: Y
A7: 2 | B7: HISACC2 | C7: ='Result Analysis'!H19 -> 36.545455 | D7: ='Result Analysis'!I19 -> 76.6 | E7: =(C7+D7)/2 -> 56.572727 | F7: 10 | G7: =10/10*100 -> 100 | H7: 3 | I7: ='CO FEEDBACK 1 to 18'!D66 -> 82 | J7: =9/10*100 -> 90 | K7: 3 | L7: =(H7*0.8+K7*0.2) -> 3 | M7: 3 | N7: Y
A8: 3 | B8: HISACC3 | C8: ='Result Analysis'!L19 -> 80 | D8: ='Result Analysis'!M19 -> 66.6 | E8: =(C8+D8)/2 -> 73.3 | F8: 10 | G8: =10/10*100 -> 100 | H8: 3 | I8: ='CO FEEDBACK 1 to 18'!D100 -> 84 | J8: =10/10*100 -> 100 | K8: 3 | L8: =(H8*0.8+K8*0.2) -> 3 | M8: 3 | N8: Y
A9: 4 | B9: HISACC4 | C9: ='Result Analysis'!P19 -> 88.4 | D9: ='Result Analysis'!Q19 -> 73.8 | E9: =(C9+D9)/2 -> 81.1 | F9: 10 | G9: =10/10*100 -> 100 | H9: 3 | I9: ='CO FEEDBACK 1 to 18'!D133 -> 76 | J9: =9/10*100 -> 90 | K9: 3 | L9: =(H9*0.8+K9*0.2) -> 3 | M9: 3 | N9: Y
A10: 5 | B10: HISACC5 | C10: ='Result Analysis'!T19 -> 90.8 | D10: ='Result Analysis'!U19 -> 51.4 | E10: =(C10+D10)/2 -> 71.1 | F10: 10 | G10: =10/10*100 -> 100 | H10: 3 | I10: ='CO FEEDBACK 1 to 18'!D167 -> 80 | J10: =10/10*100 -> 100 | K10: 3 | L10: =(H10*0.8+K10*0.2) -> 3 | M10: 3 | N10: Y
A11: 6 | B11: HISACC6 | C11: ='Result Analysis'!X19 -> 85.2 | D11: ='Result Analysis'!Y19 -> 50.6 | E11: =(C11+D11)/2 -> 67.9 | F11: 10 | G11: =9/10*100 -> 90 | H11: 3 | I11: ='CO FEEDBACK 1 to 18'!D202 -> 78 | J11: =9/10*100 -> 90 | K11: 3 | L11: =(H11*0.8+K11*0.2) -> 3 | M11: 3 | N11: Y
A12: 7 | B12: HISACC7 | C12: ='Result Analysis'!AB19 -> 90.8 | D12: ='Result Analysis'!AC19 -> 57.6 | E12: =(C12+D12)/2 -> 74.2 | F12: 10 | G12: =8/10*100 -> 80 | H12: 3 | I12: ='CO FEEDBACK 1 to 18'!I32 -> 86 | J12: =10/10*100 -> 100 | K12: 3 | L12: =(H12*0.8+K12*0.2) -> 3 | M12: 3 | N12: Y
A13: 8 | B13: HISACC8 | C13: ='Result Analysis'!AF19 -> 91.2 | D13: ='Result Analysis'!AG19 -> 46 | E13: =(C13+D13)/2 -> 68.6 | F13: 10 | G13: =8/10*100 -> 80 | H13: 3 | I13: ='CO FEEDBACK 1 to 18'!I66 -> 70 | J13: =8/10*100 -> 80 | K13: 3 | L13: =(H13*0.8+K13*0.2) -> 3 | M13: 3 | N13: Y
A14: 9 | B14: HISACC9 | C14: ='Result Analysis'!AJ19 -> 91.6 | D14: ='Result Analysis'!AK19 -> 60.4 | E14: =(C14+D14)/2 -> 76 | F14: 10 | G14: =10/10*100 -> 100 | H14: 3 | I14: ='CO FEEDBACK 1 to 18'!I100 -> 84 | J14: =10/10*100 -> 100 | K14: 3 | L14: =(H14*0.8+K14*0.2) -> 3 | M14: 3 | N14: Y
A15: 10 | B15: HISACC10 | C15: ='Result Analysis'!AN19 -> 91.6 | D15: ='Result Analysis'!AO19 -> 53.8 | E15: =(C15+D15)/2 -> 72.7 | F15: 10 | G15: =10/10*100 -> 100 | H15: 3 | I15: ='CO FEEDBACK 1 to 18'!I133 -> 86 | J15: =10/10*100 -> 100 | K15: 3 | L15: =(H15*0.8+K15*0.2) -> 3 | M15: 3 | N15: Y
A16: 11 | B16: HISACC11 | C16: ='Result Analysis'!AR19 -> 92 | D16: ='Result Analysis'!AS19 -> 52.6 | E16: =(C16+D16)/2 -> 72.3 | F16: 10 | G16: =8/10*100 -> 80 | H16: 3 | I16: ='CO FEEDBACK 1 to 18'!I167 -> 86 | J16: =10/10*100 -> 100 | K16: 3 | L16: =(H16*0.8+K16*0.2) -> 3 | M16: 3 | N16: Y
A17: 12 | B17: HISACC12 | C17: ='Result Analysis'!AV19 -> 92.4 | D17: ='Result Analysis'!AW19 -> 47.8 | E17: =(C17+D17)/2 -> 70.1 | F17: 10 | G17: =9/10*100 -> 90 | H17: 3 | I17: ='CO FEEDBACK 1 to 18'!I202 -> 84 | J17: =10/10*100 -> 100 | K17: 3 | L17: =(H17*0.8+K17*0.2) -> 3 | M17: 3 | N17: Y
A18: 13 | B18: HISACC13 | C18: ='Result Analysis'!BH19 -> 92 | D18: ='Result Analysis'!BI19 -> 58.2 | E18: =(C18+D18)/2 -> 75.1 | F18: 10 | G18: =10/10*100 -> 100 | H18: 3 | I18: ='CO FEEDBACK 1 to 18'!O32 -> 74 | J18: =8/10*100 -> 80 | K18: 3 | L18: =(H18*0.8+K18*0.2) -> 3 | M18: 3 | N18: Y
A19: 14 | B19: HISACC14 | C19: ='Result Analysis'!BL19 -> 92.4 | D19: ='Result Analysis'!BM19 -> 58.2 | E19: =(C19+D19)/2 -> 75.3 | F19: 10 | G19: =10/10*100 -> 100 | H19: 3 | I19: ='CO FEEDBACK 1 to 18'!O66 -> 92 | J19: =10/10*100 -> 100 | K19: 3 | L19: =(H19*0.8+K19*0.2) -> 3 | M19: 3 | N19: Y
A20: 15 | B20: HISADSE1 | C20: ='Result Analysis'!AZ19 -> 90 | D20: ='Result Analysis'!BA19 -> 57 | E20: =(C20+D20)/2 -> 73.5 | F20: 10 | G20: =10/10*100 -> 100 | H20: 3 | I20: ='CO FEEDBACK 1 to 18'!O100 -> 80 | J20: =9/10*100 -> 90 | K20: 3 | L20: =(H20*0.8+K20*0.2) -> 3 | M20: 3 | N20: Y
A21: 16 | B21: HISADSE2 | C21: ='Result Analysis'!BD19 -> 90 | D21: ='Result Analysis'!BE19 -> 49 | E21: =(C21+D21)/2 -> 69.5 | F21: 10 | G21: =9/10*100 -> 90 | H21: 3 | I21: ='CO FEEDBACK 1 to 18'!O133 -> 84 | J21: =10/10*100 -> 100 | K21: 3 | L21: =(H21*0.8+K21*0.2) -> 3 | M21: 3 | N21: Y
A22: 17 | B22: HISADSE3 | C22: ='Result Analysis'!BP19 -> 91.2 | D22: ='Result Analysis'!BQ19 -> 55.4 | E22: =(C22+D22)/2 -> 73.3 | F22: 10 | G22: =10/10*100 -> 100 | H22: 3 | I22: ='CO FEEDBACK 1 to 18'!O167 -> 74 | J22: =10/10*100 -> 100 | K22: 3 | L22: =(H22*0.8+K22*0.2) -> 3 | M22: 3 | N22: Y
A23: 18 | B23: HISADSE4 | C23: ='Result Analysis'!BT19 -> 92.8 | D23: ='Result Analysis'!BU19 -> 58.6 | E23: =(C23+D23)/2 -> 75.7 | F23: 10 | G23: =10/10*100 -> 100 | H23: 3 | I23: ='CO FEEDBACK 1 to 18'!O202 -> 86 | J23: =10/10*100 -> 100 | K23: 3 | L23: =(H23*0.8+K23*0.2) -> 3 | M23: 3 | N23: Y
P25: Revised
C26: POLICY FOR CALCULATION OF CO LEVELS | P26: POLICY FOR CALCULATION OF CO LEVELS
C27: (DIRECT & INDIRECT) | G27: POLICY FOR CALCULATION OF CO LEVELS | P27: (DIRECT & INDIRECT)
C28: % OF STUDENTS SECURE | D28: DIRECT ATTAINMENT | G28: ( INDIRECT) | P28: % OF STUDENTS SECURE | Q28: DIRECT ATTAINMENT
C29: MARKS >THRESHOLD | D29: LEVEL (A) | P29: MARKS >THRESHOLD | Q29: LEVEL (A)
C30: MARKS i.e., 50% | P30: MARKS i.e., 50%
C31: 70% and more | D31: 3 | P31: 70% and more | Q31: 3
C32: 60% or more and less than 70% | D32: 2 | G32: 70% and more | H32: 3 | P32: 60% or more and less than 70% | Q32: 2
C33: 50% or more and less than 60% | D33: 1 | G33: 60% or more and less than 70% | H33: 2 | P33: 50% or more and less than 60% | Q33: 1
C34: Below 50% | D34: 0 | G34: 50% or more and less than 60% | H34: 1 | P34: Below 50% | Q34: 0
G35: Below 50% | H35: 0

Sheet CO FEEDBACK 1 to 18
B1: CC1: Have you understood how the Ancient Indian | G1: CC7: Have you been able to understand and | M1: CC13: Have you been able to evaluate the causes of French Revolution and its
B2: History has been reconstructed by different types of sources | C2: Weight | D2: Percentage | G2: analyzed the changing political structure and | H2: Weight | I2: Percentage | M2: European repercussions and have you been able to analyze the background of | N2: Weight | O2: Percentage
A3: Name | B3: and how a Civilization started and reached its complexity? | F3: Name | G3: the changing society economy of Delhi Sultanate | L3: Name | M3: Industrial Revolution, its nature and its socio - economic impact?
A4: SAIFOL MONDAL | B4: Good | C4: 4 | D4: =C4/5*100 -> 80 | F4: SAIFOL MONDAL | G4: Good | H4: 4 | I4: =H4/5*100 -> 80 | L4: SAIFOL MONDAL | M4: Average | N4: 2 | O4: =N4/5*100 -> 40
A5: PRIYANKA SARKAR | B5: Good | C5: 4 | D5: =C5/5*100 -> 80 | F5: PRIYANKA SARKAR | G5: Excellent | H5: 5 | I5: =H5/5*100 -> 100 | L5: PRIYANKA SARKAR | M5: Average | N5: 2 | O5: =N5/5*100 -> 40
A6: PRITI SARKAR | B6: Excellent | C6: 5 | D6: =C6/5*100 -> 100 | F6: PRITI SARKAR | G6: Excellent | H6: 5 | I6: =H6/5*100 -> 100 | L6: PRITI SARKAR | M6: Excellent | N6: 5 | O6: =N6/5*100 -> 100
A7: SERMONA KHETUN | B7: Good | C7: 4 | D7: =C7/5*100 -> 80 | F7: SERMONA KHETUN | G7: Good | H7: 4 | I7: =H7/5*100 -> 80 | L7: SERMONA KHETUN | M7: Good | N7: 4 | O7: =N7/5*100 -> 80
A8: HASNAYARA KHATUN | B8: Good | C8: 4 | D8: =C8/5*100 -> 80 | F8: HASNAYARA KHATUN | G8: Good | H8: 4 | I8: =H8/5*100 -> 80 | L8: HASNAYARA KHATUN | M8: Moderately Good | N8: 3 | O8: =N8/5*100 -> 60
A9: SUSMITA ROY | B9: Excellent | C9: 5 | D9: =C9/5*100 -> 100 | F9: SUSMITA ROY | G9: Good | H9: 4 | I9: =H9/5*100 -> 80 | L9: SUSMITA ROY | M9: Good | N9: 4 | O9: =N9/5*100 -> 80
A10: SHUBHCCHCCA CHAKRABORTY | B10: Good | C10: 4 | D10: =C10/5*100 -> 80 | F10: SHUBHCCHCCA CHAKRABORTY | G10: Excellent | H10: 5 | I10: =H10/5*100 -> 100 | L10: SHUBHCCHCCA CHAKRABORTY | M10: Good | N10: 4 | O10: =N10/5*100 -> 80
A11: SAHEB HALDER | B11: Good | C11: 4 | D11: =C11/5*100 -> 80 | F11: SAHEB HALDER | G11: Moderately Good | H11: 3 | I11: =H11/5*100 -> 60 | L11: SAHEB HALDER | M11: Good | N11: 4 | O11: =N11/5*100 -> 80
A12: SUTAPA MONDAL | B12: Good | C12: 4 | D12: =C12/5*100 -> 80 | F12: SUTAPA MONDAL | G12: Good | H12: 4 | I12: =H12/5*100 -> 80 | L12: SUTAPA MONDAL | M12: Good | N12: 4 | O12: =N12/5*100 -> 80
A13: SONALI SARKAR | B13: Excellent | C13: 5 | D13: =C13/5*100 -> 100 | F13: SONALI SARKAR | G13: Excellent | H13: 5 | I13: =H13/5*100 -> 100 | L13: SONALI SARKAR | M13: Excellent | N13: 5 | O13: =N13/5*100 -> 100
A16: Parameters | B16: Scale weight | F16: Parameters | G16: Scale weight | L16: Parameters | M16: Scale weight
A17: Excellent | B17: 5 | F17: Excellent | G17: 5 | L17: Excellent | M17: 5
A18: Good | B18: 4 | F18: Good | G18: 4 | L18: Good | M18: 4
A19: Moderately Good | B19: 3 | F19: Moderately Good | G19: 3 | L19: Moderately Good | M19: 3
A20: Average | B20: 2 | F20: Average | G20: 2 | L20: Average | M20: 2
A21: Below Average | B21: 1 | F21: Below Average | G21: 1 | L21: Below Average | M21: 1
A23: CC-1 | F23: CC-7 | L23: CC-13
A24: Rating | B24: Response count | C24: Scale weight | D24: Total Score | F24: Rating | G24: Response count | H24: Scale weight | I24: Total Score | L24: Rating | M24: Response count | N24: Scale weight | O24: Total Score
A25: Excellent | B25: 3 | C25: 5 | D25: =B25*C25 -> 15 | F25: Excellent | G25: 4 | H25: 5 | I25: =G25*H25 -> 20 | L25: Excellent | M25: 2 | N25: 5 | O25: =M25*N25 -> 10
A26: Good | B26: 7 | C26: 4 | D26: =B26*C26 -> 28 | F26: Good | G26: 5 | H26: 4 | I26: =G26*H26 -> 20 | L26: Good | M26: 5 | N26: 4 | O26: =M26*N26 -> 20
A27: Moderately Good | B27: 0 | C27: 3 | D27: =B27*C27 -> 0 | F27: Moderately Good | G27: 1 | H27: 3 | I27: =G27*H27 -> 3 | L27: Moderately Good | M27: 1 | N27: 3 | O27: =M27*N27 -> 3
A28: Average | B28: 0 | C28: 2 | D28: =B28*C28 -> 0 | F28: Average | G28: 0 | H28: 2 | I28: =G28*H28 -> 0 | L28: Average | M28: 2 | N28: 2 | O28: =M28*N28 -> 4
A29: Below Average | B29: 0 | C29: 1 | D29: =B29*C29 -> 0 | F29: Below Average | G29: 0 | H29: 1 | I29: =G29*H29 -> 0 | L29: Below Average | M29: 0 | N29: 1 | O29: =M29*N29 -> 0
B30: =B25+B26+B27+B28+B29 -> 10 | D30: =D25+D26+D27+D28+D29 -> 43 | G30: =G25+G26+G27+G28+G29 -> 10 | I30: =I25+I26+I27+I28+I29 -> 43 | M30: =M25+M26+M27+M28+M29 -> 10 | O30: =O25+O26+O27+O28+O29 -> 37
B31: Average CO Feedback | D31: =D30/B30 -> 4.3 | G31: Average CO Feedback | I31: =I30/G30 -> 4.3 | M31: Average CO Feedback | O31: =O30/M30 -> 3.7
B32: CO Response | D32: =D31/5*100 -> 86 | G32: CO Response | I32: =I31/5*100 -> 86 | M32: CO Response | O32: =O31/5*100 -> 74
B35: CC2: Have you been able to understood how | G35: CC8: Have you been able to analyzed | M35: CC14: Have you been able to
B36: the human society transformed from Nomadic | C36: Weight | D36: Percentage | G36: the causes English Revolution | H36: Weight | I36: Percentage | M36: analyze the paths of India's freedom struggle? | N36: Weight | O36: Percentage
A37: Name | B37: to Civilized society in Ancient History of World? | F37: Name | G37: and American Revolution? | L37: Name
A38: SAIFOL MONDAL | B38: Good | C38: 4 | D38: =C38/5*100 -> 80 | F38: SAIFOL MONDAL | G38: Moderately Good | H38: 3 | I38: =H38/5*100 -> 60 | L38: SAIFOL MONDAL | M38: Good | N38: 4 | O38: =N38/5*100 -> 80
A39: PRIYANKA SARKAR | B39: Average | C39: 2 | D39: =C39/5*100 -> 40 | F39: PRIYANKA SARKAR | G39: Good | H39: 4 | I39: =H39/5*100 -> 80 | L39: PRIYANKA SARKAR | M39: Good | N39: 4 | O39: =N39/5*100 -> 80
A40: PRITI SARKAR | B40: Excellent | C40: 5 | D40: =C40/5*100 -> 100 | F40: PRITI SARKAR | G40: Average | H40: 2 | I40: =H40/5*100 -> 40 | L40: PRITI SARKAR | M40: Excellent | N40: 5 | O40: =N40/5*100 -> 100
A41: SERMONA KHETUN | B41: Good | C41: 4 | D41: =C41/5*100 -> 80 | F41: SERMONA KHETUN | G41: Good | H41: 4 | I41: =H41/5*100 -> 80 | L41: SERMONA KHETUN | M41: Good | N41: 4 | O41: =N41/5*100 -> 80
A42: HASNAYARA KHATUN | B42: Moderately Good | C42: 3 | D42: =C42/5*100 -> 60 | F42: HASNAYARA KHATUN | G42: Excellent | H42: 5 | I42: =H42/5*100 -> 100 | L42: HASNAYARA KHATUN | M42: Excellent | N42: 5 | O42: =N42/5*100 -> 100
A43: SUSMITA ROY | B43: Excellent | C43: 5 | D43: =C43/5*100 -> 100 | F43: SUSMITA ROY | G43: Good | H43: 4 | I43: =H43/5*100 -> 80 | L43: SUSMITA ROY | M43: Excellent | N43: 5 | O43: =N43/5*100 -> 100
A44: SHUBHCCHCCA CHAKRABORTY | B44: Excellent | C44: 5 | D44: =C44/5*100 -> 100 | F44: SHUBHCCHCCA CHAKRABORTY | G44: Average | H44: 2 | I44: =H44/5*100 -> 40 | L44: SHUBHCCHCCA CHAKRABORTY | M44: Excellent | N44: 5 | O44: =N44/5*100 -> 100
A45: SAHEB HALDER | B45: Good | C45: 4 | D45: =C45/5*100 -> 80 | F45: SAHEB HALDER | G45: Good | H45: 4 | I45: =H45/5*100 -> 80 | L45: SAHEB HALDER | M45: Excellent | N45: 5 | O45: =N45/5*100 -> 100
A46: SUTAPA MONDAL | B46: Good | C46: 4 | D46: =C46/5*100 -> 80 | F46: SUTAPA MONDAL | G46: Good | H46: 4 | I46: =H46/5*100 -> 80 | L46: SUTAPA MONDAL | M46: Good | N46: 4 | O46: =N46/5*100 -> 80
A47: SONALI SARKAR | B47: Excellent | C47: 5 | D47: =C47/5*100 -> 100 | F47: SONALI SARKAR | G47: Moderately Good | H47: 3 | I47: =H47/5*100 -> 60 | L47: SONALI SARKAR | M47: Excellent | N47: 5 | O47: =N47/5*100 -> 100
A50: Parameters | B50: Scale weight | F50: Parameters | G50: Scale weight | L50: Parameters | M50: Scale weight
A51: Excellent | B51: 5 | F51: Excellent | G51: 5 | L51: Excellent | M51: 5
A52: Good | B52: 4 | F52: Good | G52: 4 | L52: Good | M52: 4
A53: Moderately Good | B53: 3 | F53: Moderately Good | G53: 3 | L53: Moderately Good | M53: 3
A54: Average | B54: 2 | F54: Average | G54: 2 | L54: Average | M54: 2
A55: Below Average | B55: 1 | F55: Below Average | G55: 1 | L55: Below Average | M55: 1
A57: CC-2 | F57: CC-8 | L57: CC-14
A58: Rating | B58: Response count | C58: Scale weight | D58: Total Score | F58: Rating | G58: Response count | H58: Scale weight | I58: Total Score | L58: Rating | M58: Response count | N58: Scale weight | O58: Total Score
A59: Excellent | B59: 4 | C59: 5 | D59: =B59*C59 -> 20 | F59: Excellent | G59: 1 | H59: 5 | I59: =G59*H59 -> 5 | L59: Excellent | M59: 6 | N59: 5 | O59: =M59*N59 -> 30
A60: Good | B60: 4 | C60: 4 | D60: =B60*C60 -> 16 | F60: Good | G60: 5 | H60: 4 | I60: =G60*H60 -> 20 | L60: Good | M60: 4 | N60: 4 | O60: =M60*N60 -> 16
A61: Moderately Good | B61: 1 | C61: 3 | D61: =B61*C61 -> 3 | F61: Moderately Good | G61: 2 | H61: 3 | I61: =G61*H61 -> 6 | L61: Moderately Good | M61: 0 | N61: 3 | O61: =M61*N61 -> 0
A62: Average | B62: 1 | C62: 2 | D62: =B62*C62 -> 2 | F62: Average | G62: 2 | H62: 2 | I62: =G62*H62 -> 4 | L62: Average | M62: 0 | N62: 2 | O62: =M62*N62 -> 0
A63: Below Average | B63: 0 | C63: 1 | D63: =B63*C63 -> 0 | F63: Below Average | G63: 0 | H63: 1 | I63: =G63*H63 -> 0 | L63: Below Average | M63: 0 | N63: 1 | O63: =M63*N63 -> 0
B64: =B59+B60+B61+B62+B63 -> 10 | D64: =D59+D60+D61+D62+D63 -> 41 | G64: =G59+G60+G61+G62+G63 -> 10 | I64: =I59+I60+I61+I62+I63 -> 35 | M64: =M59+M60+M61+M62+M63 -> 10 | O64: =O59+O60+O61+O62+O63 -> 46
B65: Average CO Feedback | D65: =D64/B64 -> 4.1 | G65: Average CO Feedback | I65: =I64/G64 -> 3.5 | M65: Average CO Feedback | O65: =O64/M64 -> 4.6
B66: CO Response | D66: =D65/5*100 -> 82 | G66: CO Response | I66: =I65/5*100 -> 70 | M66: CO Response | O66: =O65/5*100 -> 92
B69: CC3: Have you been able to remember the changes | G69: CC9: Have you been able to analyze how Mughal Empire was established through | M69: CC15: Have you been able to evaluate
B70: of political social economic and cultural formations | C70: Weight | D70: Percentage | G70: struggle and have you you beenable to evaluate the innovative imperial, economic, | H70: Weight | I70: Percentage | M70: and analyze the challenges of Nation | N70: Weight | O70: Percentage
A71: Name | B71: during the Maurian and the Post Maurian ages? | F71: Name | G71: religious and cultural policies followed by Akbar,Sahajahan,Jahangir and Auranzeb? | L71: Name | M71: building process of India after Independence?
A72: SAIFOL MONDAL | B72: Good | C72: 4 | D72: =C72/5*100 -> 80 | F72: SAIFOL MONDAL | G72: Good | H72: 4 | I72: =H72/5*100 -> 80 | L72: SAIFOL MONDAL | M72: Good | N72: 4 | O72: =N72/5*100 -> 80
A73: PRIYANKA SARKAR | B73: Good | C73: 4 | D73: =C73/5*100 -> 80 | F73: PRIYANKA SARKAR | G73: Moderately Good | H73: 3 | I73: =H73/5*100 -> 60 | L73: PRIYANKA SARKAR | M73: Good | N73: 4 | O73: =N73/5*100 -> 80
A74: PRITI SARKAR | B74: Excellent | C74: 5 | D74: =C74/5*100 -> 100 | F74: PRITI SARKAR | G74: Excellent | H74: 5 | I74: =H74/5*100 -> 100 | L74: PRITI SARKAR | M74: Excellent | N74: 5 | O74: =N74/5*100 -> 100
A75: SERMONA KHETUN | B75: Moderately Good | C75: 3 | D75: =C75/5*100 -> 60 | F75: SERMONA KHETUN | G75: Good | H75: 4 | I75: =H75/5*100 -> 80 | L75: SERMONA KHETUN | M75: Good | N75: 4 | O75: =N75/5*100 -> 80
A76: HASNAYARA KHATUN | B76: Excellent | C76: 5 | D76: =C76/5*100 -> 100 | F76: HASNAYARA KHATUN | G76: Excellent | H76: 5 | I76: =H76/5*100 -> 100 | L76: HASNAYARA KHATUN | M76: Average | N76: 2 | O76: =N76/5*100 -> 40
A77: SUSMITA ROY | B77: Good | C77: 4 | D77: =C77/5*100 -> 80 | F77: SUSMITA ROY | G77: Good | H77: 4 | I77: =H77/5*100 -> 80 | L77: SUSMITA ROY | M77: Excellent | N77: 5 | O77: =N77/5*100 -> 100
A78: SHUBHCCHCCA CHAKRABORTY | B78: Good | C78: 4 | D78: =C78/5*100 -> 80 | F78: SHUBHCCHCCA CHAKRABORTY | G78: Good | H78: 4 | I78: =H78/5*100 -> 80 | L78: SHUBHCCHCCA CHAKRABORTY | M78: Good | N78: 4 | O78: =N78/5*100 -> 80
A79: SAHEB HALDER | B79: Good | C79: 4 | D79: =C79/5*100 -> 80 | F79: SAHEB HALDER | G79: Good | H79: 4 | I79: =H79/5*100 -> 80 | L79: SAHEB HALDER | M79: Good | N79: 4 | O79: =N79/5*100 -> 80
A80: SUTAPA MONDAL | B80: Good | C80: 4 | D80: =C80/5*100 -> 80 | F80: SUTAPA MONDAL | G80: Good | H80: 4 | I80: =H80/5*100 -> 80 | L80: SUTAPA MONDAL | M80: Moderately Good | N80: 3 | O80: =N80/5*100 -> 60
A81: SONALI SARKAR | B81: Excellent | C81: 5 | D81: =C81/5*100 -> 100 | F81: SONALI SARKAR | G81: Excellent | H81: 5 | I81: =H81/5*100 -> 100 | L81: SONALI SARKAR | M81: Excellent | N81: 5 | O81: =N81/5*100 -> 100
A84: Parameters | B84: Scale weight | F84: Parameters | G84: Scale weight | L84: Parameters | M84: Scale weight
A85: Excellent | B85: 5 | F85: Excellent | G85: 5 | L85: Excellent | M85: 5
A86: Good | B86: 4 | F86: Good | G86: 4 | L86: Good | M86: 4
A87: Moderately Good | B87: 3 | F87: Moderately Good | G87: 3 | L87: Moderately Good | M87: 3
A88: Average | B88: 2 | F88: Average | G88: 2 | L88: Average | M88: 2
A89: Below Average | B89: 1 | F89: Below Average | G89: 1 | L89: Below Average | M89: 1
A91: CC-3 | F91: CC-9 | L91: CC-15
A92: Rating | B92: Response count | C92: Scale weight | D92: Total Score | F92: Rating | G92: Response count | H92: Scale weight | I92: Total Score | L92: Rating | M92: Response count | N92: Scale weight | O92: Total Score
A93: Excellent | B93: 3 | C93: 5 | D93: =B93*C93 -> 15 | F93: Excellent | G93: 3 | H93: 5 | I93: =G93*H93 -> 15 | L93: Excellent | M93: 3 | N93: 5 | O93: =M93*N93 -> 15
A94: Good | B94: 6 | C94: 4 | D94: =B94*C94 -> 24 | F94: Good | G94: 6 | H94: 4 | I94: =G94*H94 -> 24 | L94: Good | M94: 5 | N94: 4 | O94: =M94*N94 -> 20
A95: Moderately Good | B95: 1 | C95: 3 | D95: =B95*C95 -> 3 | F95: Moderately Good | G95: 1 | H95: 3 | I95: =G95*H95 -> 3 | L95: Moderately Good | M95: 1 | N95: 3 | O95: =M95*N95 -> 3
A96: Average | B96: 0 | C96: 2 | D96: =B96*C96 -> 0 | F96: Average | G96: 0 | H96: 2 | I96: =G96*H96 -> 0 | L96: Average | M96: 1 | N96: 2 | O96: =M96*N96 -> 2
A97: Below Average | B97: 0 | C97: 1 | D97: =B97*C97 -> 0 | F97: Below Average | G97: 0 | H97: 1 | I97: =G97*H97 -> 0 | L97: Below Average | M97: 0 | N97: 1 | O97: =M97*N97 -> 0
B98: =B93+B94+B95+B96+B97 -> 10 | D98: =D93+D94+D95+D96+D97 -> 42 | G98: =G93+G94+G95+G96+G97 -> 10 | I98: =I93+I94+I95+I96+I97 -> 42 | M98: =M93+M94+M95+M96+M97 -> 10 | O98: =O93+O94+O95+O96+O97 -> 40
B99: Average CO Feedback | D99: =D98/B98 -> 4.2 | G99: Average CO Feedback | I99: =I98/G98 -> 4.2 | M99: Average CO Feedback | O99: =O98/M98 -> 4
B100: CO Response | D100: =D99/5*100 -> 84 | G100: CO Response | I100: =I99/5*100 -> 84 | M100: CO Response | O100: =O99/5*100 -> 80
B102: CC4: Have you been able to analyze how | G102: CC10: Have you been able to analyze how British established their empire in | M102: CC16: Have you been able to evaluate the background of 2nd world war
B103: the economic development in Europe destroyed | C103: Weight | D103: Percentage | G103: India and how they destroyed India's trditional economy and society and how the | H103: Weight | I103: Percentage | M103: and analyze the origin of cold war and changing world politics scenarios and | N103: Weight | O103: Percentage
A104: Name | B104: the old feudal society and economy? | F104: Name | G104: educational reforms by the British gave birth of new light i.e Renaissance? | L104: Name | M104: emerging trends in culture , media and revolution among European countries?
A105: SAIFOL MONDAL | B105: Good | C105: 4 | D105: =C105/5*100 -> 80 | F105: SAIFOL MONDAL | G105: Good | H105: 4 | I105: =H105/5*100 -> 80 | L105: SAIFOL MONDAL | M105: Good | N105: 4 | O105: =N105/5*100 -> 80
A106: PRIYANKA SARKAR | B106: Moderately Good | C106: 3 | D106: =C106/5*100 -> 60 | F106: PRIYANKA SARKAR | G106: Good | H106: 4 | I106: =H106/5*100 -> 80 | L106: PRIYANKA SARKAR | M106: Moderately Good | N106: 3 | O106: =N106/5*100 -> 60
A107: PRITI SARKAR | B107: Good | C107: 4 | D107: =C107/5*100 -> 80 | F107: PRITI SARKAR | G107: Excellent | H107: 5 | I107: =H107/5*100 -> 100 | L107: PRITI SARKAR | M107: Excellent | N107: 5 | O107: =N107/5*100 -> 100
A108: SERMONA KHETUN | B108: Good | C108: 4 | D108: =C108/5*100 -> 80 | F108: SERMONA KHETUN | G108: Good | H108: 4 | I108: =H108/5*100 -> 80 | L108: SERMONA KHETUN | M108: Good | N108: 4 | O108: =N108/5*100 -> 80
A109: HASNAYARA KHATUN | B109: Average | C109: 2 | D109: =C109/5*100 -> 40 | F109: HASNAYARA KHATUN | G109: Good | H109: 4 | I109: =H109/5*100 -> 80 | L109: HASNAYARA KHATUN | M109: Good | N109: 4 | O109: =N109/5*100 -> 80
A110: SUSMITA ROY | B110: Good | C110: 4 | D110: =C110/5*100 -> 80 | F110: SUSMITA ROY | G110: Excellent | H110: 5 | I110: =H110/5*100 -> 100 | L110: SUSMITA ROY | M110: Excellent | N110: 5 | O110: =N110/5*100 -> 100
A111: SHUBHCCHCCA CHAKRABORTY | B111: Good | C111: 4 | D111: =C111/5*100 -> 80 | F111: SHUBHCCHCCA CHAKRABORTY | G111: Good | H111: 4 | I111: =H111/5*100 -> 80 | L111: SHUBHCCHCCA CHAKRABORTY | M111: Good | N111: 4 | O111: =N111/5*100 -> 80
A112: SAHEB HALDER | B112: Good | C112: 4 | D112: =C112/5*100 -> 80 | F112: SAHEB HALDER | G112: Good | H112: 4 | I112: =H112/5*100 -> 80 | L112: SAHEB HALDER | M112: Excellent | N112: 5 | O112: =N112/5*100 -> 100
A113: SUTAPA MONDAL | B113: Good | C113: 4 | D113: =C113/5*100 -> 80 | F113: SUTAPA MONDAL | G113: Good | H113: 4 | I113: =H113/5*100 -> 80 | L113: SUTAPA MONDAL | M113: Moderately Good | N113: 3 | O113: =N113/5*100 -> 60
A114: SONALI SARKAR | B114: Excellent | C114: 5 | D114: =C114/5*100 -> 100 | F114: SONALI SARKAR | G114: Excellent | H114: 5 | I114: =H114/5*100 -> 100 | L114: SONALI SARKAR | M114: Excellent | N114: 5 | O114: =N114/5*100 -> 100
...

Sheet CO Graph 1
A1: DEPARTMENT OF HISTORY
A2: ATTAINMENT OF COURSE OUTCOMES (GRAPH BY RAW SCORES)
A3: Academic Year : 2023-24
A5: COURSE CODE | B5: INTERNAL AVERAGE (%) (I) | C5: EXTERNAL AVARAGE (%) (A) | D5: DIRECT AVERAGE (%) (D) =( I+E)/2 | E5: INDIRECT AVERAGE (%)
A7: HISACC1 | B7: ='CO Attainment'!C6 -> 78.8 | C7: ='CO Attainment'!D6 -> 69.6 | D7: =(B7+C7)/2 -> 74.2 | E7: ='CO Attainment'!I6 -> 86
A8: HISACC2 | B8: ='CO Attainment'!C7 -> 36.545455 | C8: ='CO Attainment'!D7 -> 76.6 | D8: =(B8+C8)/2 -> 56.572727 | E8: ='CO Attainment'!I7 -> 82
A9: HISACC3 | B9: ='CO Attainment'!C8 -> 80 | C9: ='CO Attainment'!D8 -> 66.6 | D9: =(B9+C9)/2 -> 73.3 | E9: ='CO Attainment'!I8 -> 84
A10: HISACC4 | B10: ='CO Attainment'!C9 -> 88.4 | C10: ='CO Attainment'!D9 -> 73.8 | D10: =(B10+C10)/2 -> 81.1 | E10: ='CO Attainment'!I9 -> 76
A11: HISACC5 | B11: ='CO Attainment'!C10 -> 90.8 | C11: ='CO Attainment'!D10 -> 51.4 | D11: =(B11+C11)/2 -> 71.1 | E11: ='CO Attainment'!I10 -> 80
A12: HISACC6 | B12: ='CO Attainment'!C11 -> 85.2 | C12: ='CO Attainment'!D11 -> 50.6 | D12: =(B12+C12)/2 -> 67.9 | E12: ='CO Attainment'!I11 -> 78
A13: HISACC7 | B13: ='CO Attainment'!C12 -> 90.8 | C13: ='CO Attainment'!D12 -> 57.6 | D13: =(B13+C13)/2 -> 74.2 | E13: ='CO Attainment'!I12 -> 86
A14: HISACC8 | B14: ='CO Attainment'!C13 -> 91.2 | C14: ='CO Attainment'!D13 -> 46 | D14: =(B14+C14)/2 -> 68.6 | E14: ='CO Attainment'!I13 -> 70
A15: HISACC9 | B15: ='CO Attainment'!C14 -> 91.6 | C15: ='CO Attainment'!D14 -> 60.4 | D15: =(B15+C15)/2 -> 76 | E15: ='CO Attainment'!I14 -> 84
A16: HISACC10 | B16: ='CO Attainment'!C15 -> 91.6 | C16: ='CO Attainment'!D15 -> 53.8 | D16: =(B16+C16)/2 -> 72.7 | E16: ='CO Attainment'!I15 -> 86
A17: HISACC11 | B17: ='CO Attainment'!C16 -> 92 | C17: ='CO Attainment'!D16 -> 52.6 | D17: =(B17+C17)/2 -> 72.3 | E17: ='CO Attainment'!I16 -> 86
A18: HISACC12 | B18: ='CO Attainment'!C17 -> 92.4 | C18: ='CO Attainment'!D17 -> 47.8 | D18: =(B18+C18)/2 -> 70.1 | E18: ='CO Attainment'!I17 -> 84
... A24: HISADSE4 | B24: ='CO Attainment'!C23 -> 92.8 | C24: ='CO Attainment'!D23 -> 58.6 | D24: =(B24+C24)/2 -> 75.7 | E24: ='CO Attainment'!I23 -> 86

Sheet CO Graph 2
A1: DEPARTMENT OF HISTORY
A2: ATTAINMENT OF COURSE OUTCOMES (GRAPHS BY LEVELS DEFINED)
A4: COURSE CODE | B4: DIRECT ATTAINMENT LEVEL (A) | C4: INDIRECT ATTAINMENT LEVEL (B) | D4: CO ATTAINMENT (80% A +20% B) | E4: ATTAINMENT TARGET
A5: HISACC1 | B5: 3 | C5: 3 | D5: =(B5*0.8+C5*0.2) -> 3 | E5: 3
A6: HISACC2 | B6: 3 | C6: 3 | D6: =(B6*0.8+C6*0.2) -> 3 | E6: 3
A7: HISACC3 | B7: 3 | C7: 3 | D7: =(B7*0.8+C7*0.2) -> 3 | E7: 3
A8: HISACC4 | B8: 3 | C8: 3 | D8: =(B8*0.8+C8*0.2) -> 3 | E8: 3
A9: HISACC5 | B9: 3 | C9: 3 | D9: =(B9*0.8+C9*0.2) -> 3 | E9: 3
A10: HISACC6 | B10: 3 | C10: 3 | D10: =(B10*0.8+C10*0.2) -> 3 | E10: 3
A11: HISACC7 | B11: 3 | C11: 3 | D11: =(B11*0.8+C11*0.2) -> 3 | E11: 3
A12: HISACC8 | B12: 3 | C12: 3 | D12: =(B12*0.8+C12*0.2) -> 3 | E12: 3
A13: HISACC9 | B13: 3 | C13: 3 | D13: =(B13*0.8+C13*0.2) -> 3 | E13: 3
A14: HISACC10 | B14: 3 | C14: 3 | D14: =(B14*0.8+C14*0.2) -> 3 | E14: 3
A15: HISACC11 | B15: 3 | C15: 3 | D15: =(B15*0.8+C15*0.2) -> 3 | E15: 3
A16: HISACC12 | B16: 3 | C16: 3 | D16: =(B16*0.8+C16*0.2) -> 3 | E16: 3
... A22: HISADSE4 | B22: 3 | C22: 3 | D22: =(B22*0.8+C22*0.2) -> 3 | E22: 3

Sheet CO-PO Mapping
A1: CO-PO MAPPING | N1: PO Attainment Calculation
A3: COURSE NAME | B3: COURSE OUTCOME | C3: PO1 | D3: PO2 | E3: PO3 | F3: PO4 | G3: PO5 | H3: PO6 | I3: PO7 | J3: PO8 | K3: PO9 | L3: CO Attainment | N3: Direct PO 1 Score | O3: Direct PO 2 Score | P3: Direct PO 3 Score | Q3: Direct PO 4 Score | R3: Direct PO 5 Score | S3: Direct PO 6 Score | T3: Direct PO 7 Score | U3: Direct PO 8 Score | V3: Direct PO 9 Score
A4: HISACC1 | B4: CO-1 | C4: 3 | D4: 3 | E4: 0 | F4: 0 | G4: 0 | H4: 0 | I4: 0 | J4: 0 | K4: 3
B5: CO-2 | C5: 3 | D5: 3 | E5: 0 | F5: 0 | G5: 0 | H5: 0 | I5: 0 | J5: 0 | K5: 3
B6: CO-3 | C6: 3 | D6: 3 | E6: 0 | F6: 0 | G6: 0 | H6: 0 | I6: 0 | J6: 0 | K6: 3
B7: CO-4 | C7: 3 | D7: 3 | E7: 0 | F7: 0 | G7: 0 | H7: 0 | I7: 0 | J7: 0 | K7: 3
B8: CO-5 | C8: 3 | D8: 3 | E8: 0 | F8: 0 | G8: 0 | H8: 0 | I8: 0 | J8: 0 | K8: 3
B9: CO-6 | C9: 3 | D9: 3 | E9: 0 | F9: 0 | G9: 0 | H9: 0 | I9: 0 | J9: 0 | K9: 3
B10: Average Mapping | C10: =(C4+C5+C6+C7+C8+C9)/6 -> 3 | D10: =(D4+D5+D6+D7+D8+D9)/6 -> 3 | E10: =(E4+E5+E6+E7+E8+E9)/6 -> 0 | F10: =(F4+F5+F6+F7+F8+F9)/6 -> 0 | G10: =(G4+G5+G6+G7+G8+G9)/6 -> 0 | H10: =(H4+H5+H6+H7+H8+H9)/6 -> 0 | I10: =(I4+I5+I6+I7+I8+I9)/6 -> 0 | J10: =(J4+J5+J6+J7+J8+J9)/6 -> 0 | K10: =(K4+K5+K6+K7+K8+K9)/6 -> 3 | L10: ='CO Attainment'!L6 -> 3 | N10: =C10*L10 -> 9 | O10: =D10*L10 -> 9 | P10: =E10*L10 -> 0 | Q10: =F10*L10 -> 0 | R10: =G10*L10 -> 0 | S10: =H10*L10 -> 0 | T10: =I10*L10 -> 0 | U10: =J10*L10 -> 0 | V10: =K10*L10 -> 9
A12: HISACC2 | B12: CO-1 | C12: 3 | D12: 3 | E12: 0 | F12: 0 | G12: 0 | H12: 0 | I12: 0 | J12: 0 | K12: 3
B13: CO-2 | C13: 3 | D13: 3 | E13: 0 | F13: 0 | G13: 0 | H13: 0 | I13: 0 | J13: 0 | K13: 3
B14: CO-3 | C14: 3 | D14: 3 | E14: 0 | F14: 0 | G14: 0 | H14: 0 | I14: 0 | J14: 0 | K14: 3
B15: CO-4 | C15: 3 | D15: 3 | E15: 0 | F15: 0 | G15: 0 | H15: 0 | I15: 0 | J15: 0 | K15: 3
B16: CO-5 | C16: 3 | D16: 3 | E16: 0 | F16: 0 | G16: 0 | H16: 0 | I16: 0 | J16: 0 | K16: 3
B17: CO-6 | C17: 3 | D17: 3 | E17: 0 | F17: 0 | G17: 0 | H17: 0 | I17: 0 | J17: 0 | K17: 3
B18: Average Mapping | C18: =(C12+C13+C14+C15+C16+C17)/6 -> 3 | D18: =(D12+D13+D14+D15+D16+D17)/6 -> 3 | E18: =(E12+E13+E14+E15+E16+E17)/6 -> 0 | F18: =(F12+F13+F14+F15+F16+F17)/6 -> 0 | G18: =(G12+G13+G14+G15+G16+G17)/6 -> 0 | H18: =(H12+H13+H14+H15+H16+H17)/6 -> 0 | I18: =(I12+I13+I14+I15+I16+I17)/6 -> 0 | J18: =(J12+J13+J14+J15+J16+J17)/6 -> 0 | K18: =(K12+K13+K14+K15+K16+K17)/6 -> 3 | L18: ='CO Attainment'!L7 -> 3 | N18: =C18*L18 -> 9 | O18: =D18*L18 -> 9 | P18: =E18*L18 -> 0 | Q18: =F18*L18 -> 0 | R18: =G18*L18 -> 0 | S18: =H18*L18 -> 0 | T18: =I18*L18 -> 0 | U18: =J18*L18 -> 0 | V18: =K18*L18 -> 9
A20: HISACC3 | B20: CO-1 | C20: 0 | D20: 0 | E20: 0 | F20: 0 | G20: 0 | H20: 0 | I20: 0 | J20: 0 | K20: 3
B21: CO-2 | C21: 2 | D21: 3 | E21: 0 | F21: 0 | G21: 0 | H21: 0 | I21: 0 | J21: 0 | K21: 3
B22: CO-3 | C22: 2 | D22: 3 | E22: 0 | F22: 0 | G22: 0 | H22: 0 | I22: 0 | J22: 0 | K22: 3
B23: CO-4 | C23: 2 | D23: 3 | E23: 0 | F23: 0 | G23: 0 | H23: 0 | I23: 0 | J23: 0 | K23: 3
B24: CO-5 | C24: 2 | D24: 3 | E24: 0 | F24: 0 | G24: 0 | H24: 0 | I24: 0 | J24: 0 | K24: 3
B25: Average Mapping | C25: =(C20+C21+C22+C23+C24)/5 -> 1.6 | D25: =(D20+D21+D22+D23+D24)/5 -> 2.4 | E25: =(E20+E21+E22+E23+E24)/5 -> 0 | F25: =(F20+F21+F22+F23+F24)/5 -> 0 | G25: =(G20+G21+G22+G23+G24)/5 -> 0 | H25: =(H20+H21+H22+H23+H24)/5 -> 0 | I25: =(I20+I21+I22+I23+I24)/5 -> 0 | J25: =(J20+J21+J22+J23+J24)/5 -> 0 | K25: =(K20+K21+K22+K23+K24)/5 -> 3 | L25: ='CO Attainment'!L8 -> 3 | N25: =C25*L25 -> 4.8 | O25: =D25*L25 -> 7.2 | P25: =E25*L25 -> 0 | Q25: =F25*L25 -> 0 | R25: =G25*L25 -> 0 | S25: =H25*L25 -> 0 | T25: =I25*L25 -> 0 | U25: =J25*L25 -> 0 | V25: =K25*L25 -> 9
A27: HISACC4 | B27: CO-1 | C27: 3 | D27: 3 | E27: 0 | F27: 0 | G27: 0 | H27: 0 | I27: 0 | J27: 0 | K27: 3
B28: CO-2 | C28: 3 | D28: 3 | E28: 0 | F28: 0 | G28: 0 | H28: 0 | I28: 0 | J28: 0 | K28: 3
B29: CO-3 | C29: 3 | D29: 3 | E29: 0 | F29: 0 | G29: 0 | H29: 0 | I29: 0 | J29: 0 | K29: 3
B30: CO-4 | C30: 3 | D30: 3 | E30: 0 | F30: 0 | G30: 0 | H30: 0 | I30: 3 | J30: 0 | K30: 3
B31: CO-5 | C31: 3 | D31: 3 | E31: 0 | F31: 0 | G31: 0 | H31: 0 | I31: 0 | J31: 0 | K31: 3
B32: CO-6 | C32: 3 | D32: 3 | E32: 0 | F32: 0 | G32: 0 | H32: 0 | I32: 0 | J32: 0 | K32: 3
B33: Average Mapping | C33: =(C27+C28+C29+C30+C31+C32)/6 -> 3 | D33: =(D27+D28+D29+D30+D31+D32)/6 -> 3 | E33: =(E27+E28+E29+E30+E31+E32)/6 -> 0 | F33: =(F27+F28+F29+F30+F31+F32)/6 -> 0 | G33: =(G27+G28+G29+G30+G31+G32)/6 -> 0 | H33: =(H27+H28+H29+H30+H31+H32)/6 -> 0 | I33: =(I27+I28+I29+I30+I31+I32)/6 -> 0.5 | J33: =(J27+J28+J29+J30+J31+J32)/6 -> 0 | K33: =(K27+K28+K29+K30+K31+K32)/6 -> 3 | L33: ='CO Attainment'!L9 -> 3 | N33: =C33*L33 -> 9 | O33: =D33*L33 -> 9 | P33: =E33*L33 -> 0 | Q33: =F33*L33 -> 0 | R33: =G33*L33 -> 0 | S33: =H33*L33 -> 0 | T33: =I33*L33 -> 1.5 | U33: =J33*L33 -> 0 | V33: =K33*L33 -> 9
A35: HISACC5 | B35: CO-1 | C35: 0 | D35: 0 | E35: 0 | F35: 0 | G35: 0 | H35: 0 | I35: 0 | J35: 0 | K35: 3
B36: CO-2 | C36: 2 | D36: 2 | E36: 0 | F36: 0 | G36: 0 | H36: 0 | I36: 0 | J36: 0 | K36: 3
B37: CO-3 | C37: 2 | D37: 0 | E37: 0 | F37: 0 | G37: 0 | H37: 0 | I37: 0 | J37: 0 | K37: 3
B38: CO-4 | C38: 2 | D38: 0 | E38: 0 | F38: 0 | G38: 0 | H38: 0 | I38: 0 | J38: 0 | K38: 3
B39: CO-5 | C39: 2 | D39: 0 | E39: 0 | F39: 0 | G39: 0 | H39: 0 | I39: 0 | J39: 0 | K39: 3
B40: Average Mapping | C40: =(C35+C36+C37+C38+C39)/5 -> 1.6 | D40: =(D35+D36+D37+D38+D39)/5 -> 0.4 | E40: =(E35+E36+E37+E38+E39)/5 -> 0 | F40: =(F35+F36+F37+F38+F39)/5 -> 0 | G40: =(G35+G36+G37+G38+G39)/5 -> 0 | H40: =(H35+H36+H37+H38+H39)/5 -> 0 | I40: =(I35+I36+I37+I38+I39)/5 -> 0 | J40: =(J35+J36+J37+J38+J39)/5 -> 0 | K40: =(K35+K36+K37+K38+K39)/5 -> 3 | L40: ='CO Attainment'!L10 -> 3 | N40: =C40*L40 -> 4.8 | O40: =D40*L40 -> 1.2 | P40: =E40*L40 -> 0 | Q40: =F40*L40 -> 0 | R40: =G40*L40 -> 0 | S40: =H40*L40 -> 0 | T40: =I40*L40 -> 0 | U40: =J40*L40 -> 0 | V40: =K40*L40 -> 9
A42: HISACC6 | B42: CO-1 | C42: 0 | D42: 0 | E42: 0 | F42: 0 | G42: 0 | H42: 0 | I42: 0 | J42: 0 | K42: 3
B43: CO-2 | C43: 1 | D43: 3 | E43: 3 | F43: 0 | G43: 0 | H43: 3 | I43: 0 | J43: 0 | K43: 3
B44: CO-3 | C44: 1 | D44: 3 | E44: 3 | F44: 0 | G44: 0 | H44: 3 | I44: 0 | J44: 0 | K44: 3
B45: CO-4 | C45: 1 | D45: 3 | E45: 3 | F45: 0 | G45: 0 | H45: 3 | I45: 0 | J45: 0 | K45: 3
B46: CO-5 | C46: 1 | D46: 3 | E46: 3 | F46: 0 | G46: 0 | H46: 3 | I46: 0 | J46: 0 | K46: 3
B47: CO-6 | C47: 1 | D47: 3 | E47: 3 | F47: 0 | G47: 0 | H47: 3 | I47: 0 | J47: 0 | K47: 3
B48: Average Mapping | C48: =(C42+C43+C44+C45+C46+C47)/6 -> 0.83333333 | D48: =(D42+D43+D44+D45+D46+D47)/6 -> 2.5 | E48: =(E42+E43+E44+E45+E46+E47)/6 -> 2.5 | F48: =(F42+F43+F44+F45+F46+F47)/6 -> 0 | G48: =(G42+G43+G44+G45+G46+G47)/6 -> 0 | H48: =(H42+H43+H44+H45+H46+H47)/6 -> 2.5 | I48: =(I42+I43+I44+I45+I46+I47)/6 -> 0 | J48: =(J42+J43+J44+J45+J46+J47)/6 -> 0 | K48: =(K42+K43+K44+K45+K46+K47)/6 -> 3 | L48: ='CO Attainment'!L11 -> 3 | N48: =C48*L48 -> 2.5 | O48: =D48*L48 -> 7.5 | P48: =E48*L48 -> 7.5 | Q48: =F48*L48 -> 0 | R48: =G48*L48 -> 0 | S48: =H48*L48 -> 7.5 | T48: =I48*L48 -> 0 | U48: =J48*L48 -> 0 | V48: =K48*L48 -> 9
A50: HISACC7 | B50: CO-1 | C50: 0 | D50: 0 | E50: 0 | F50: 0 | G50: 0 | H50: 0 | I50: 0 | J50: 0 | K50: 3
B51: CO-2 | C51: 0 | D51: 3 | E51: 0 | F51: 0 | G51: 0 | H51: 0 | I51: 0 | J51: 0 | K51: 3
B52: CO-3 | C52: 1 | D52: 2 | E52: 0 | F52: 0 | G52: 0 | H52: 0 | I52: 0 | J52: 0 | K52: 3
B53: CO-4 | C53: 1 | D53: 2 | E53: 0 | F53: 0 | G53: 0 | H53: 0 | I53: 0 | J53: 0 | K53: 3
B54: CO-5 | C54: 1 | D54: 2 | E54: 0 | F54: 0 | G54: 0 | H54: 0 | I54: 0 | J54: 0 | K54: 3
B55: CO-6 | C55: 1 | D55: 2 | E55: 0 | F55: 0 | G55: 0 | H55: 0 | I55: 0 | J55: 0 | K55: 3
B56: Average Mapping | C56: =(C50+C51+C52+C53+C54+C55)/6 -> 0.66666667 | D56: =(D50+D51+D52+D53+D54+D55)/6 -> 1.8333333 | E56: =(E50+E51+E52+E53+E54+E55)/6 -> 0 | F56: =(F50+F51+F52+F53+F54+F55)/6 -> 0 | G56: =(G50+G51+G52+G53+G54+G55)/6 -> 0 | H56: =(H50+H51+H52+H53+H54+H55)/6 -> 0 | I56: =(I50+I51+I52+I53+I54+I55)/6 -> 0 | J56: =(J50+J51+J52+J53+J54+J55)/6 -> 0 | K56: =(K50+K51+K52+K53+K54+K55)/6 -> 3 | L56: ='CO Attainment'!L12 -> 3 | N56: =C56*L56 -> 2 | O56: =D56*L56 -> 5.5 | P56: =E56*L56 -> 0 | Q56: =F56*L56 -> 0 | R56: =G56*L56 -> 0 | S56: =H56*L56 -> 0 | T56: =I56*L56 -> 0 | U56: =J56*L56 -> 0 | V56: =K56*L56 -> 9
A58: HISACC8 | B58: CO-1 | C58: 1 | D58: 0 | E58: 0 | F58: 0 | G58: 0 | H58: 0 | I58: 0 | J58: 0 | K58: 3
B59: CO-2 | C59: 1 | D59: 3 | E59: 3 | F59: 0 | G59: 0 | H59: 3 | I59: 0 | J59: 0 | K59: 3
B60: CO-3 | C60: 1 | D60: 3 | E60: 3 | F60: 0 | G60: 0 | H60: 3 | I60: 0 | J60: 0 | K60: 3
B61: CO-4 | C61: 1 | D61: 3 | E61: 3 | F61: 0 | G61: 0 | H61: 3 | I61: 0 | J61: 0 | K61: 3
B62: CO-5 | C62: 1 | D62: 3 | E62: 3 | F62: 0 | G62: 0 | H62: 3 | I62: 0 | J62: 0 | K62: 3
B63: CO-6 | C63: 1 | D63: 3 | E63: 3 | F63: 0 | G63: 0 | H63: 3 | I63: 0 | J63: 0 | K63: 3
B64: CO-7 | C64: 1 | D64: 3 | E64: 3 | F64: 0 | G64: 0 | H64: 3 | I64: 0 | J64: 0 | K64: 3
B65: Average Mapping | C65: =(C58+C59+C60+C61+C62+C63+C64)/7 -> 1 | D65: =(D58+D59+D60+D61+D62+D63+D64)/7 -> 2.5714286 | E65: =(E58+E59+E60+E61+E62+E63+E64)/7 -> 2.5714286 | F65: =(F58+F59+F60+F61+F62+F63+F64)/7 -> 0 | G65: =(G58+G59+G60+G61+G62+G63+G64)/7 -> 0 | H65: =(H58+H59+H60+H61+H62+H63+H64)/7 -> 2.5714286 | I65: =(I58+I59+I60+I61+I62+I63+I64)/7 -> 0 | J65: =(J58+J59+J60+J61+J62+J63+J64)/7 -> 0 | K65: =(K58+K59+K60+K61+K62+K63+K64)/7 -> 3 | L65: ='CO Attainment'!L13 -> 3 | N65: =C65*L65 -> 3 | O65: =D65*L65 -> 7.7142857 | P65: =E65*L65 -> 7.7142857 | Q65: =F65*L65 -> 0 | R65: =G65*L65 -> 0 | S65: =H65*L65 -> 7.7142857 | T65: =I65*L65 -> 0 | U65: =J65*L65 -> 0 | V65: =K65*L65 -> 9
A67: HISACC9 | B67: CO-1 | C67: 0 | D67: 0 | E67: 0 | F67: 0 | G67: 0 | H67: 0 | I67: 0 | J67: 0 | K67: 3
B68: CO-2 | C68: 0 | D68: 3 | E68: 0 | F68: 0 | G68: 0 | H68: 0 | I68: 0 | J68: 0 | K68: 3
B69: CO-3 | C69: 0 | D69: 3 | E69: 0 | F69: 0 | G69: 0 | H69: 0 | I69: 0 | J69: 0 | K69: 3
B70: CO-4 | C70: 0 | D70: 0 | E70: 0 | F70: 0 | G70: 0 | H70: 0 | I70: 0 | J70: 0 | K70: 3
B71: CO-5 | C71: 0 | D71: 0 | E71: 0 | F71: 0 | G71: 0 | H71: 0 | I71: 0 | J71: 0 | K71: 3
B72: CO-6 | C72: 0 | D72: 3 | E72: 0 | F72: 0 | G72: 0 | H72: 0 | I72: 0 | J72: 0 | K72: 3
B73: Average Mapping | C73: =(C67+C68+C69+C70+C71+C72)/6 -> 0 | D73: =(D67+D68+D69+D70+D71+D72)/6 -> 1.5 | E73: =(E67+E68+E69+E70+E71+E72)/6 -> 0 | F73: =(F67+F68+F69+F70+F71+F72)/6 -> 0 | G73: =(G67+G68+G69+G70+G71+G72)/6 -> 0 | H73: =(H67+H68+H69+H70+H71+H72)/6 -> 0 | I73: =(I67+I68+I69+I70+I71+I72)/6 -> 0 | J73: =(J67+J68+J69+J70+J71+J72)/6 -> 0 | K73: =(K67+K68+K69+K70+K71+K72)/6 -> 3 | L73: ='CO Attainment'!L14 -> 3 | N73: =C73*L73 -> 0 | O73: =D73*L73 -> 4.5 | P73: =E73*L73 -> 0 | Q73: =F73*L73 -> 0 | R73: =G73*L73 -> 0 | S73: =H73*L73 -> 0 | T73: =I73*L73 -> 0 | U73: =J73*L73 -> 0 | V73: =K73*L73 -> 9
A75: HISACC10 | B75: CO-1 | C75: 0 | D75: 0 | E75: 0 | F75: 0 | G75: 0 | H75: 0 | I75: 0 | J75: 0 | K75: 3
B76: CO-2 | C76: 0 | D76: 3 | E76: 1 | F76: 0 | G76: 0 | H76: 0 | I76: 0 | J76: 0 | K76: 3
B77: CO-3 | C77: 0 | D77: 3 | E77: 1 | F77: 0 | G77: 0 | H77: 0 | I77: 0 | J77: 0 | K77: 3
B78: CO-4 | C78: 0 | D78: 3 | E78: 1 | F78: 0 | G78: 0 | H78: 0 | I78: 0 | J78: 0 | K78: 3
B79: CO-5 | C79: 0 | D79: 1 | E79: 1 | F79: 0 | G79: 0 | H79: 0 | I79: 0 | J79: 0 | K79: 3
B80: CO-6 | C80: 0 | D80: 1 | E80: 1 | F80: 0 | G80: 0 | H80: 0 | I80: 0 | J80: 0 | K80: 3
B81: Average Mapping | C81: =(C75+C76+C77+C78+C79+C80)/6 -> 0 | D81: =(D75+D76+D77+D78+D79+D80)/6 -> 1.8333333 | E81: =(E75+E76+E77+E78+E79+E80)/6 -> 0.83333333 | F81: =(F75+F76+F77+F78+F79+F80)/6 -> 0 | G81: =(G75+G76+G77+G78+G79+G80)/6 -> 0 | H81: =(H75+H76+H77+H78+H79+H80)/6 -> 0 | I81: =(I75+I76+I77+I78+I79+I80)/6 -> 0 | J81: =(J75+J76+J77+J78+J79+J80)/6 -> 0 | K81: =(K75+K76+K77+K78+K79+K80)/6 -> 3 | L81: ='CO Attainment'!L15 -> 3 | N81: =C81*L81 -> 0 | O81: =D81*L81 -> 5.5 | P81: =E81*L81 -> 2.5 | Q81: =F81*L81 -> 0 | R81: =G81*L81 -> 0 | S81: =H81*L81 -> 0 | T81: =I81*L81 -> 0 | U81: =J81*L81 -> 0 | V81: =K81*L81 -> 9
A83: HISACC11 | B83: CO-1 | C83: 0 | D83: 0 | E83: 0 | F83: 0 | G83: 0 | H83: 0 | I83: 0 | J83: 0 | K83: 3
B84: CO-2 | C84: 0 | D84: 3 | E84: 3 | F84: 0 | G84: 0 | H84: 3 | I84: 0 | J84: 0 | K84: 3
B85: CO-3 | C85: 0 | D85: 3 | E85: 3 | F85: 0 | G85: 0 | H85: 3 | I85: 0 | J85: 0 | K85: 3
B86: CO-4 | C86: 0 | D86: 3 | E86: 3 | F86: 0 | G86: 0 | H86: 3 | I86: 0 | J86: 0 | K86: 3
B87: CO-5 | C87: 0 | D87: 3 | E87: 3 | F87: 0 | G87: 0 | H87: 3 | I87: 0 | J87: 0 | K87: 3
B88: CO-6 | C88: 0 | D88: 3 | E88: 3 | F88: 0 | G88: 0 | H88: 3 | I88: 0 | J88: 0 | K88: 3
B89: CO-7 | C89: 0 | D89: 3 | E89: 3 | F89: 0 | G89: 0 | H89: 0 | I89: 0 | J89: 0 | K89: 3
B90: Average Mapping | C90: =(C83+C84+C85+C86+C87+C88+C89)/7 -> 0 | D90: =(D83+D84+D85+D86+D87+D88+D89)/7 -> 2.5714286 | E90: =(E83+E84+E85+E86+E87+E88+E89)/7 -> 2.5714286 | F90: =(F83+F84+F85+F86+F87+F88+F89)/7 -> 0 | G90: =(G83+G84+G85+G86+G87+G88+G89)/7 -> 0 | H90: =(H83+H84+H85+H86+H87+H88+H89)/7 -> 2.1428571 | I90: =(I83+I84+I85+I86+I87+I88+I89)/7 -> 0 | J90: =(J83+J84+J85+J86+J87+J88+J89)/7 -> 0 | K90: =(K83+K84+K85+K86+K87+K88+K89)/7 -> 3 | L90: ='CO Attainment'!L16 -> 3 | N90: =C90*L90 -> 0 | O90: =D90*L90 -> 7.7142857 | P90: =E90*L90 -> 7.7142857 | Q90: =F90*L90 -> 0 | R90: =G90*L90 -> 0 | S90: =H90*L90 -> 6.4285714 | T90: =I90*L90 -> 0 | U90: =J90*L90 -> 0 | V90: =K90*L90 -> 9
A92: HISACC12 | B92: CO-1 | C92: 0 | D92: 0 | E92: 0 | F92: 0 | G92: 0 | H92: 0 | I92: 0 | J92: 0 | K92: 3
B93: CO-2 | C93: 0 | D93: 3 | E93: 3 | F93: 3 | G93: 3 | H93: 3 | I93: 0 | J93: 0 | K93: 3
B94: CO-3 | C94: 0 | D94: 3 | E94: 3 | F94: 3 | G94: 3 | H94: 3 | I94: 0 | J94: 0 | K94: 3
B95: CO-4 | C95: 0 | D95: 3 | E95: 3 | F95: 3 | G95: 3 | H95: 3 | I95: 0 | J95: 0 | K95: 3
B96: CO-5 | C96: 0 | D96: 3 | E96: 3 | F96: 3 | G96: 3 | H96: 3 | I96: 0 | J96: 0 | K96: 3
B97: Average Mapping | C97: =(C92+C93+C94+C95+C96)/5 -> 0 | D97: =(D92+D93+D94+D95+D96)/5 -> 2.4 | E97: =(E92+E93+E94+E95+E96)/5 -> 2.4 | F97: =(F92+F93+F94+F95+F96)/5 -> 2.4 | G97: =(G92+G93+G94+G95+G96)/5 -> 2.4 | H97: =(H92+H93+H94+H95+H96)/5 -> 2.4 | I97: =(I92+I93+I94+I95+I96)/5 -> 0 | J97: =(J92+J93+J94+J95+J96)/5 -> 0 | K97: =(K92+K93+K94+K95+K96)/5 -> 3 | L97: ='CO Attainment'!L17 -> 3 | N97: =C97*L97 -> 0 | O97: =D97*L97 -> 7.2 | P97: =E97*L97 -> 7.2 | Q97: =F97*L97 -> 7.2 | R97: =G97*L97 -> 7.2 | S97: =H97*L97 -> 7.2 | T97: =I97*L97 -> 0 | U97: =J97*L97 -> 0 | V97: =K97*L97 -> 9
A99: HISACC13 | B99: CO-1 | C99: 0 | D99: 3 | E99: 0 | F99: 3 | G99: 3 | H99: 0 | I99: 3 | J99: 0 | K99: 3
B100: CO-2 | C100: 0 | D100: 3 | E100: 0 | F100: 3 | G100: 3 | H100: 0 | I100: 3 | J100: 0 | K100: 3
B101: CO-3 | C101: 0 | D101: 3 | E101: 0 | F101: 3 | G101: 3 | H101: 0 | I101: 3 | J101: 0 | K101: 3
B102: CO-4 | C102: 0 | D102: 3 | E102: 0 | F102: 3 | G102: 3 | H102: 0 | I102: 3 | J102: 0 | K102: 3
B103: CO-5 | C103: 0 | D103: 3 | E103: 0 | F103: 3 | G103: 3 | H103: 0 | I103: 3 | J103: 0 | K103: 3
B104: CO-6 | C104: 0 | D104: 3 | E104: 0 | F104: 3 | G104: 3 | H104: 0 | I104: 3 | J104: 0 | K104: 3
B105: Average Mapping | C105: =(C99+C100+C101+C102+C103+C104)/6 -> 0 | D105: =(D99+D100+D101+D102+D103+D104)/6 -> 3 | E105: =(E99+E100+E101+E102+E103+E104)/6 -> 0 | F105: =(F99+F100+F101+F102+F103+F104)/6 -> 3 | G105: =(G99+G100+G101+G102+G103+G104)/6 -> 3 | H105: =(H99+H100+H101+H102+H103+H104)/6 -> 0 | I105: =(I99+I100+I101+I102+I103+I104)/6 -> 3 | J105: =(J99+J100+J101+J102+J103+J104)/6 -> 0 | K105: =(K99+K100+K101+K102+K103+K104)/6 -> 3 | L105: ='CO Attainment'!L18 -> 3 | N105: =C105*L105 -> 0 | O105: =D105*L105 -> 9 | P105: =E105*L105 -> 0 | Q105: =F105*L105 -> 9 | R105: =G105*L105 -> 9 | S105: =H105*L105 -> 0 | T105: =I105*L105 -> 9 | U105: =J105*L105 -> 0 | V105: =K105*L105 -> 9
A107: HISACC14 | B107: CO-1 | C107: 0 | D107: 3 | E107: 3 | F107: 0 | G107: 0 | H107: 3 | I107: 0 | J107: 0 | K107: 3
B108: CO-2 | C108: 0 | D108: 3 | E108: 3 | F108: 0 | G108: 0 | H108: 3 | I108: 0 | J108: 0 | K108: 3
B109: CO-3 | C109: 0 | D109: 3 | E109: 3 | F109: 0 | G109: 0 | H109: 3 | I109: 0 | J109: 0 | K109: 3
B110: CO-4 | C110: 0 | D110: 3 | E110: 3 | F110: 0 | G110: 0 | H110: 3 | I110: 0 | J110: 0 | K110: 3
B111: CO-5 | C111: 0 | D111: 3 | E111: 3 | F111: 0 | G111: 0 | H111: 3 | I111: 0 | J111: 0 | K111: 3
B112: CO-6 | C112: 0 | D112: 3 | E112: 3 | F112: 0 | G112: 0 | H112: 3 | I112: 0 | J112: 0 | K112: 3
B113: Average Mapping | C113: =(C107+C108+C109+C110+C111+C112)/6 -> 0 | D113: =(D107+D108+D109+D110+D111+D112)/6 -> 3 | E113: =(E107+E108+E109+E110+E111+E112)/6 -> 3 | F113: =(F107+F108+F109+F110+F111+F112)/6 -> 0 | G113: =(G107+G108+G109+G110+G111+G112)/6 -> 0 | H113: =(H107+H108+H109+H110+H111+H112)/6 -> 3 | I113: =(I107+I108+I109+I110+I111+I112)/6 -> 0 | J113: =(J107+J108+J109+J110+J111+J112)/6 -> 0 | K113: =(K107+K108+K109+K110+K111+K112)/6 -> 3 | L113: ='CO Attainment'!L19 -> 3 | N113: =C113*L113 -> 0 | O113: =D113*L113 -> 9 | P113: =E113*L113 -> 9 | Q113: =F113*L113 -> 0 | R113: =G113*L113 -> 0 | S113: =H113*L113 -> 9 | T113: =I113*L113 -> 0 | U113: =J113*L113 -> 0 | V113: =K113*L113 -> 9
A115: HISADSE1 | B115: CO-1 | C115: 0 | D115: 3 | E115: 3 | F115: 0 | G115: 0 | H115: 2 | I115: 0 | J115: 3 | K115: 3
...

Sheet PO Graph
A1: DEPARTMENT OF HISTORY
A2: ATTAINMENT OF POs (Academic Year : 2023-24)
A3: Programme Outcomes (POs) | B3: PO ATTAINMENT (DIRECT) | C3: ATTAINMENT TARGET
A4: PO 1 | B4: ='CO-PO Mapping'!N147 -> 3 | C4: 3
A5: PO 2 | B5: ='CO-PO Mapping'!O147 -> 3 | C5: 3
A6: PO 3 | B6: ='CO-PO Mapping'!P147 -> 3 | C6: 3
A7: PO 4 | B7: ='CO-PO Mapping'!Q147 -> 3 | C7: 3
A8: PO 5 | B8: ='CO-PO Mapping'!R147 -> 3 | C8: 3
A9: PO 6 | B9: ='CO-PO Mapping'!R147 -> 3 | C9: 3
A10: PO 7 | B10: ='CO-PO Mapping'!T147 -> 3 | C10: 3
A11: PO 8 | B11: ='CO-PO Mapping'!U147 -> 3 | C11: 3
A12: PO 9 | B12: ='CO-PO Mapping'!V147 -> 3 | C12: 3
